BEGIN:VCALENDAR
VERSION:2.0
PRODID:-//Technology 4 Tomorrow - ECPv6.15.20//NONSGML v1.0//EN
CALSCALE:GREGORIAN
METHOD:PUBLISH
X-ORIGINAL-URL:https://tech4tomorrow.org
X-WR-CALDESC:Events for Technology 4 Tomorrow
REFRESH-INTERVAL;VALUE=DURATION:PT1H
X-Robots-Tag:noindex
X-PUBLISHED-TTL:PT1H
BEGIN:VTIMEZONE
TZID:UTC
BEGIN:STANDARD
TZOFFSETFROM:+0000
TZOFFSETTO:+0000
TZNAME:UTC
DTSTART:20230101T000000
END:STANDARD
END:VTIMEZONE
BEGIN:VEVENT
DTSTART;VALUE=DATE:20241126
DTEND;VALUE=DATE:20241127
DTSTAMP:20260424T152951
CREATED:20241114T183457Z
LAST-MODIFIED:20250711T142639Z
UID:10000096-1732579200-1732665599@tech4tomorrow.org
SUMMARY:Brattleboro Development Credit Corp. Class Summit 2024
DESCRIPTION:T4T\, in partnership with the Brattleboro Development Credit Corporation (BDCC)\, will be a providing a full day of classes free of charge! On Tuesday\, November 26th\, T4T staff will be instructing BDCC staff on a variety of topics. \n  \nTopics include: \n\nEmail 101 and Professional Presence\nWeb Browsing and Job Searching\nZoom and Professional Online Learning\nLanguage Learning and Translating Tools
URL:https://tech4tomorrow.org/event/brattleboro-development-credit-corp-class-summit-2024/
END:VEVENT
BEGIN:VEVENT
DTSTART;TZID=UTC:20241126T170000
DTEND;TZID=UTC:20241126T190000
DTSTAMP:20260424T152951
CREATED:20241114T183705Z
LAST-MODIFIED:20250711T142733Z
UID:10000095-1732640400-1732647600@tech4tomorrow.org
SUMMARY:Vermont Afghan Alliance Tech Class Event 2024
DESCRIPTION:T4T has partnered with the Vermont Afghan Alliance (VAA) to provide a free class session! In this two-hour class\, we will be discussing a number of topics including: \nGoogle Calendar \nGoogle Maps \nGoogle Search \nScam Prevention \nWe’re excited and honored to be working with such an important Vermont institution!
URL:https://tech4tomorrow.org/event/vermont-afghan-alliance-tech-class-event-2024/
ATTACH;FMTTYPE=image/png:https://tech4tomorrow.org/wp-content/uploads/2024/06/VT-Afghan-Alliance-1-e1725469523714.png
END:VEVENT
END:VCALENDAR