BEGIN:VCALENDAR
VERSION:2.0
PRODID:-//Technology 4 Tomorrow - ECPv6.15.20//NONSGML v1.0//EN
CALSCALE:GREGORIAN
METHOD:PUBLISH
X-WR-CALNAME:Technology 4 Tomorrow
X-ORIGINAL-URL:https://tech4tomorrow.org
X-WR-CALDESC:Events for Technology 4 Tomorrow
REFRESH-INTERVAL;VALUE=DURATION:PT1H
X-Robots-Tag:noindex
X-PUBLISHED-TTL:PT1H
BEGIN:VTIMEZONE
TZID:UTC
BEGIN:STANDARD
TZOFFSETFROM:+0000
TZOFFSETTO:+0000
TZNAME:UTC
DTSTART:20230101T000000
END:STANDARD
END:VTIMEZONE
BEGIN:VEVENT
DTSTART;TZID=UTC:20241231T133000
DTEND;TZID=UTC:20241231T150000
DTSTAMP:20260424T133927
CREATED:20241224T153726Z
LAST-MODIFIED:20250711T143308Z
UID:10000121-1735651800-1735657200@tech4tomorrow.org
SUMMARY:TechSpark Ignite - HireAbility Staff Training Winter '24
DESCRIPTION:These classes are being provided to staff and other individuals within HireAbility’s office. Classes are on: \n\n1/31/2025\n2/7/2025\n2/14/2025\n2/21/2025\n2/28/2025
URL:https://tech4tomorrow.org/event/techspark-ignite-hireability-staff-training-winter-24/
ATTACH;FMTTYPE=image/png:https://tech4tomorrow.org/wp-content/uploads/2024/08/webIcons_client.png
END:VEVENT
END:VCALENDAR