BEGIN:VCALENDAR
VERSION:2.0
PRODID:-//Technology 4 Tomorrow - ECPv6.15.20//NONSGML v1.0//EN
CALSCALE:GREGORIAN
METHOD:PUBLISH
X-ORIGINAL-URL:https://tech4tomorrow.org
X-WR-CALDESC:Events for Technology 4 Tomorrow
REFRESH-INTERVAL;VALUE=DURATION:PT1H
X-Robots-Tag:noindex
X-PUBLISHED-TTL:PT1H
BEGIN:VTIMEZONE
TZID:UTC
BEGIN:STANDARD
TZOFFSETFROM:+0000
TZOFFSETTO:+0000
TZNAME:UTC
DTSTART:20240101T000000
END:STANDARD
END:VTIMEZONE
BEGIN:VEVENT
DTSTART;TZID=UTC:20250106T150000
DTEND;TZID=UTC:20250106T163000
DTSTAMP:20260424T132721
CREATED:20241220T171015Z
LAST-MODIFIED:20250711T143345Z
UID:10000110-1736175600-1736181000@tech4tomorrow.org
SUMMARY:Harbor Village & Senior Planet Fall 2024 Series
DESCRIPTION:Harbor Village\, T4T\, and SeniorPlanet have come together to provide SeniorPlanet-ready classes to the residents of HarborVillage! \nTopics Include: \n\n10/21: Streaming and Smart TVs\n11/4: Facebook\n11/18: Telemedicine\n12/9: Smartphones at a Glance\n12/16: Protecting Your Personal Information Online
URL:https://tech4tomorrow.org/event/harbor-village-senior-planet-fall-2024-series-3/2025-01-06/
END:VEVENT
END:VCALENDAR