BEGIN:VCALENDAR
VERSION:2.0
PRODID:-//Technology 4 Tomorrow - ECPv6.15.20//NONSGML v1.0//EN
CALSCALE:GREGORIAN
METHOD:PUBLISH
X-WR-CALNAME:Technology 4 Tomorrow
X-ORIGINAL-URL:https://tech4tomorrow.org
X-WR-CALDESC:Events for Technology 4 Tomorrow
REFRESH-INTERVAL;VALUE=DURATION:PT1H
X-Robots-Tag:noindex
X-PUBLISHED-TTL:PT1H
BEGIN:VTIMEZONE
TZID:UTC
BEGIN:STANDARD
TZOFFSETFROM:+0000
TZOFFSETTO:+0000
TZNAME:UTC
DTSTART:20240101T000000
END:STANDARD
END:VTIMEZONE
BEGIN:VEVENT
DTSTART;TZID=UTC:20250116T164500
DTEND;TZID=UTC:20250116T181500
DTSTAMP:20260424T132433
CREATED:20241213T152521Z
LAST-MODIFIED:20250711T143613Z
UID:10000101-1737045900-1737051300@tech4tomorrow.org
SUMMARY:BPU - Microsoft TechSpark Ignite Winter '25
DESCRIPTION:25 Ignite Course Series – Burlington Parent University II\n\n\nClass Dates:\nTime of Class:\n\n\n1\n1/16/2025\nUnderstanding Smartphones\n4:45pm – 6:15pm\nLocation:\n\n\n2\n1/30/2025\nUnderstanding Smartphones\n4:45pm – 6:15pm\nFamily Room\, Allen St. Burlington\n\n\n3\n2/13/2025\nGoogle Translate\n4:45pm – 6:15pm\n\n\n\n4\n3/6/2025\nGoogle Translate\n4:45pm – 6:15pm\n\n\n\n5\n3/13/2025\nGoogle Lens\n4:45pm – 6:15pm
URL:https://tech4tomorrow.org/event/bpu-microsoft-techspark-ignite-winter-25/
ATTACH;FMTTYPE=image/png:https://tech4tomorrow.org/wp-content/uploads/2024/08/bpu_t4tweb2024.png
END:VEVENT
BEGIN:VEVENT
DTSTART;TZID=UTC:20250116T164500
DTEND;TZID=UTC:20250116T181500
DTSTAMP:20260424T132433
CREATED:20250121T184501Z
LAST-MODIFIED:20250711T143639Z
UID:10000151-1737045900-1737051300@tech4tomorrow.org
SUMMARY:BPU - Microsoft TechSpark Ignite Winter '25
DESCRIPTION:25 Ignite Course Series – Burlington Parent University II\n\n\nClass Dates:\nTime of Class:\n\n\n1\n1/16/2025\nUnderstanding Smartphones\n4:45pm – 6:15pm\nFamily Room on Allen St\, Burlington\n\n\n2\n1/23/2025\nUnderstanding Smartphones\n4:45pm – 6:15pm\n\n\n\n3\n1/30/2025\nGoogle Translate\n4:45pm – 6:15pm\n\n\n\n4\n2/6/2025\nGoogle Translate\n4:45pm – 6:15pm\n\n\n\n5\n2/13/2025\nGoogle Lens\n4:45pm – 6:15pm\n\n\n\n6\n2/20/2025\nGoogle Lens\n4:45pm – 6:15pm\n\n\n\n7\n3/6/2025\nTBD\n\n\n\n\n8\n3/17 or 3/24 TBD\nTBD
URL:https://tech4tomorrow.org/event/bpu-microsoft-techspark-ignite-winter-25-2/2025-01-16/
ATTACH;FMTTYPE=image/png:https://tech4tomorrow.org/wp-content/uploads/2024/08/bpu_t4tweb2024.png
END:VEVENT
END:VCALENDAR