BEGIN:VCALENDAR
VERSION:2.0
PRODID:-//Technology 4 Tomorrow - ECPv6.15.20//NONSGML v1.0//EN
CALSCALE:GREGORIAN
METHOD:PUBLISH
X-WR-CALNAME:Technology 4 Tomorrow
X-ORIGINAL-URL:https://tech4tomorrow.org
X-WR-CALDESC:Events for Technology 4 Tomorrow
REFRESH-INTERVAL;VALUE=DURATION:PT1H
X-Robots-Tag:noindex
X-PUBLISHED-TTL:PT1H
BEGIN:VTIMEZONE
TZID:UTC
BEGIN:STANDARD
TZOFFSETFROM:+0000
TZOFFSETTO:+0000
TZNAME:UTC
DTSTART:20240101T000000
END:STANDARD
END:VTIMEZONE
BEGIN:VEVENT
DTSTART;TZID=UTC:20250131T090000
DTEND;TZID=UTC:20250131T110000
DTSTAMP:20260424T115936
CREATED:20250124T185603Z
LAST-MODIFIED:20250711T144053Z
UID:10000156-1738314000-1738321200@tech4tomorrow.org
SUMMARY:SIT World Learning Education Virtual Sessions
DESCRIPTION:These classes are the Virtual Lecture segments for the SIT World Learning Series in the month of February. The classes are as follows: \n\nKeyboarding and Typing – January 31st – 9:00am to 11:00am\nWord Processors and Professional Formatting – February 6th from 2:00pm to 4:00pm\nIntroduction to AI and Ethical Usage – February 13th from 2:00pm to 4:00pm\nInternet Privacy and Security – February 20th from 2:00pm to 4:00pm
URL:https://tech4tomorrow.org/event/sit-world-learning-education-virtual-sessions/2025-01-31/
ATTACH;FMTTYPE=image/png:https://tech4tomorrow.org/wp-content/uploads/2025/01/image001.png
END:VEVENT
BEGIN:VEVENT
DTSTART;TZID=UTC:20250131T133000
DTEND;TZID=UTC:20250131T150000
DTSTAMP:20260424T115936
CREATED:20250103T150000Z
LAST-MODIFIED:20250711T143915Z
UID:10000122-1738330200-1738335600@tech4tomorrow.org
SUMMARY:TechSpark Ignite - HireAbility Staff Training Winter '24
DESCRIPTION:These classes are being provided to staff and other individuals within HireAbility’s office. Class subjects TBD. Classes are on: \n\n1/31/2025\n2/7/2025\n2/14/2025\n2/21/2025\n2/28/2025
URL:https://tech4tomorrow.org/event/techspark-ignite-hireability-staff-training-winter-24-2/2025-01-31/
ATTACH;FMTTYPE=image/png:https://tech4tomorrow.org/wp-content/uploads/2024/08/webIcons_client.png
END:VEVENT
END:VCALENDAR