BEGIN:VCALENDAR
VERSION:2.0
PRODID:-//Technology 4 Tomorrow - ECPv6.15.20//NONSGML v1.0//EN
CALSCALE:GREGORIAN
METHOD:PUBLISH
X-WR-CALNAME:Technology 4 Tomorrow
X-ORIGINAL-URL:https://tech4tomorrow.org
X-WR-CALDESC:Events for Technology 4 Tomorrow
REFRESH-INTERVAL;VALUE=DURATION:PT1H
X-Robots-Tag:noindex
X-PUBLISHED-TTL:PT1H
BEGIN:VTIMEZONE
TZID:UTC
BEGIN:STANDARD
TZOFFSETFROM:+0000
TZOFFSETTO:+0000
TZNAME:UTC
DTSTART:20240101T000000
END:STANDARD
END:VTIMEZONE
BEGIN:VEVENT
DTSTART;TZID=UTC:20250217T140000
DTEND;TZID=UTC:20250217T173000
DTSTAMP:20260424T115944
CREATED:20250124T190503Z
LAST-MODIFIED:20250711T144022Z
UID:10000166-1739800800-1739813400@tech4tomorrow.org
SUMMARY:SIT World Learning Education In-Person Workshops
DESCRIPTION:These classes are the In-Person Workshop segments for the SIT World Learning Series in the month of February. The classes are as follows: \n\nKeyboarding and Typing – February 3rd – 2:00pm to 5:30pm\nWord Processors and Professional Formatting – February 10th from 2:00pm to 5:30pm\nIntroduction to AI and Ethical Usage – February 17th from 2:00pm to 5:30pm\nInternet Privacy and Security – February 24th from 2:00pm to 5:30pm
URL:https://tech4tomorrow.org/event/sit-world-learning-education-in-person-workshops/2025-02-17/
ATTACH;FMTTYPE=image/png:https://tech4tomorrow.org/wp-content/uploads/2025/01/image001.png
END:VEVENT
END:VCALENDAR