BEGIN:VCALENDAR
VERSION:2.0
PRODID:-//Technology 4 Tomorrow - ECPv6.15.20//NONSGML v1.0//EN
CALSCALE:GREGORIAN
METHOD:PUBLISH
X-WR-CALNAME:Technology 4 Tomorrow
X-ORIGINAL-URL:https://tech4tomorrow.org
X-WR-CALDESC:Events for Technology 4 Tomorrow
REFRESH-INTERVAL;VALUE=DURATION:PT1H
X-Robots-Tag:noindex
X-PUBLISHED-TTL:PT1H
BEGIN:VTIMEZONE
TZID:UTC
BEGIN:STANDARD
TZOFFSETFROM:+0000
TZOFFSETTO:+0000
TZNAME:UTC
DTSTART:20240101T000000
END:STANDARD
END:VTIMEZONE
BEGIN:VEVENT
DTSTART;TZID=UTC:20250325T130000
DTEND;TZID=UTC:20250325T140000
DTSTAMP:20260424T103236
CREATED:20250305T144341Z
LAST-MODIFIED:20250711T144356Z
UID:10000168-1742907600-1742911200@tech4tomorrow.org
SUMMARY:Williston Parks & Rec Senior Program Q1 '25
DESCRIPTION:This class series\, in partnership with Williston Recreation and Parks\, features topic such as scam prevention\, internet tracking\, smartphones\, and MyChart. These courses target the interests of older adults in the Williston Area. \n\n\n\n\n\n\n\n\nClass Series – Basic Literacy\n\n\n01/28/2025 – 04/29/2025\nWilliston – 94 Harvest Lane – Time of Class: 1:00 pm – 2:00 pm (1 Hour)\n\n\n1\n1/28\nProtecting Your Personal Information Online\n\n\n\n2\n3/25\nIntro to Managing Your Privacy\n\n\n\n3\n4/29\nSmartphones at a Glance\n\n\n\n4\n5/27\nMyChart
URL:https://tech4tomorrow.org/event/williston-parks-rec-senior-program-q1-25/2025-03-25/
END:VEVENT
BEGIN:VEVENT
DTSTART;TZID=UTC:20250325T144500
DTEND;TZID=UTC:20250325T161500
DTSTAMP:20260424T103236
CREATED:20241220T172323Z
LAST-MODIFIED:20250711T143748Z
UID:10000119-1742913900-1742919300@tech4tomorrow.org
SUMMARY:CVOEO - Ignite Staff Winter/Spring Series '25
DESCRIPTION:T4T is working closely with CVOEO to teach members of their staff programs they need access to in their work lives. The last two classes will be chosen by students who attend the first three classes to have more direct control of what they want to learn. \n\nJanuary 28th\, 2025 – Advanced Excel\nFebruary 11th\, 2025 – Intro to AI\nMarch 11th\, 2025 – Scams & AI\nMarch 18th\, 2025 – Advanced Microsoft Outlook (Email)\nMarch 25th\, 2025 – Advanced Microsoft Word
URL:https://tech4tomorrow.org/event/cvoeo-ignite-staff-winter-spring-series-25/2025-03-25/
ATTACH;FMTTYPE=image/png:https://tech4tomorrow.org/wp-content/uploads/2024/08/cvoeo_t4tweb2024.png
END:VEVENT
END:VCALENDAR