BEGIN:VCALENDAR
VERSION:2.0
PRODID:-//Technology 4 Tomorrow - ECPv6.15.20//NONSGML v1.0//EN
CALSCALE:GREGORIAN
METHOD:PUBLISH
X-ORIGINAL-URL:https://tech4tomorrow.org
X-WR-CALDESC:Events for Technology 4 Tomorrow
REFRESH-INTERVAL;VALUE=DURATION:PT1H
X-Robots-Tag:noindex
X-PUBLISHED-TTL:PT1H
BEGIN:VTIMEZONE
TZID:UTC
BEGIN:STANDARD
TZOFFSETFROM:+0000
TZOFFSETTO:+0000
TZNAME:UTC
DTSTART:20240101T000000
END:STANDARD
END:VTIMEZONE
BEGIN:VEVENT
DTSTART;TZID=UTC:20250404T100000
DTEND;TZID=UTC:20250404T120000
DTSTAMP:20260424T091025
CREATED:20250310T142617Z
LAST-MODIFIED:20250711T144431Z
UID:10000222-1743760800-1743768000@tech4tomorrow.org
SUMMARY:T4T / A4TD Mature Worker Digital Literacy Project '25
DESCRIPTION:Class #\nClass Topic – Basic Literacy\nClass Topic – Intermediate Literacy\n\nCohort 1\nCohort 2\nCohort 3\nCohort 4\nCohort 5\nCohort 6\n\n\n\n\n\n\n(11 participants)\n(10 participants)\n(11 participants)\n(10 participants)\n(11 participants)\n(10 participants)\n\n\n\n\n\n\nTuesday & Thursday\nWednesday and Friday\nTuesday & Thursday\nWednesday and Friday\nTuesday & Thursday\nWednesday and Friday\n\n\n1\nIntroduction to the Computer\nIntroduction to Search Engines\nWeek 1\n2/11/2025\n2/12/2025\n4/1/2025\n4/2/2025\n5/20/2025\n5/21/2025\n\n\n2\nIntroduction to Zoom Meetings\nMicrosoft OneDrive\nWeek 1\n2/13/2025\n2/14/2025\n4/3/2025\n4/4/2025\n5/22/2025\n5/23/2025\n\n\n3\nUnderstanding the Smartphone\nMicrosoft PowerPoint\nWeek 2\n2/18/2025\n2/19/2025\n4/8/2025\n4/9/2025\n5/27/2025\n5/28/2025\n\n\n4\nProtect Yourself from Scams\nAdvanced Microsoft Word\nWeek 2\n2/20/2025\n2/21/2025\n4/10/2025\n4/11/2025\n5/29/2025\n5/30/2025\n\n\n5\nMicrosoft Word\nAdvanced Word Workshop\nWeek 3\n2/25/2025\n2/26/2025\n4/15/2025\n4/16/2025\n6/3/2025\n6/4/2025\n\n\n6\nGoogle Docs\nAdvanced Microsoft Excel\nWeek 3\n2/27/2025\n2/28/2025\n4/17/2025\n4/18/2025\n6/5/2025\n6/6/2025\n\n\n7\nMicrosoft Outlook\nAdvanced Microsoft Excel Workshop\nWeek 4\n3/4/2025\n3/5/2025\n4/22/2025\n4/23/2025\n6/10/2025\n6/11/2025\n\n\n8\nGmail\nAdvanced Microsoft Outlook\nWeek 4\n3/6/2025\n3/7/2025\n4/24/2025\n4/25/2025\n6/12/2025\n6/13/2025\n\n\n9\nMicrosoft Excel\nAdvanced Microsoft Outlook Workshop\nWeek 5\n3/11/2025\n3/12/2025\n4/29/2025\n4/30/2025\n6/17/2025\n6/18/2025\n\n\n10\nGoogle Sheets\nLinkedIn\nWeek 5\n3/13/2025\n3/14/2025\n5/1/2025\n5/2/2025\n6/19/2025\n6/20/2025\n\n\n11\nCareer Workshops\nCareer Workshop\nWeek 6\n3/18/2025\n3/19/2025\n5/13/2025\n5/14/2025\n6/24/2025\n6/25/2025\n\n\n12\nCareer Workshops\nCareer Workshop\nWeek 6\n3/20/2025\n3/21/2025\n5/15/2025\n5/16/2025\n6/26/2025\n6/27/2025
URL:https://tech4tomorrow.org/event/t4t-a4td-mature-worker-digital-literacy-project-25-2/2025-04-04/
ATTACH;FMTTYPE=image/png:https://tech4tomorrow.org/wp-content/uploads/2025/02/Screenshot-2025-02-10-085456.png
END:VEVENT
BEGIN:VEVENT
DTSTART;TZID=UTC:20250404T123000
DTEND;TZID=UTC:20250404T134500
DTSTAMP:20260424T091025
CREATED:20250317T161548Z
LAST-MODIFIED:20250711T144244Z
UID:10000268-1743769800-1743774300@tech4tomorrow.org
SUMMARY:Winooski High School Digital Navigator Program for Young Adults ’25
DESCRIPTION:This initiative\, in partnership with Winooski High School\, aims to equip students with the essential digital skills required to succeed in an evolving digital landscape. Our program will focus on fundamental digital competencies\, ensuring that students are well-prepared to navigate the academic and technological demands of the workplace and further education.\n\n\n\n\n\n\n\n\n\n\nClass Series – Basic Literacy\n\n\nTime of Class: 12:30 – 1:45 (1 hour & 15 minutes)\n\n\n#\nDate\nClass Topic\n\n\n1\n2/7/2025\nMisinformation & Evaluating Online Sources\n\n\n2\n3/7/2025\nIntroduction to AI & Ethical Usage\n\n\n3\n3/21/2025\nAccount Creation & Management\n\n\n4\n4/4/2025\nTo be decided\n\n\n5\nTo be decided\nTo be decided
URL:https://tech4tomorrow.org/event/winooski-high-school-digital-navigator-program-for-young-adults-25/2025-04-04/
END:VEVENT
END:VCALENDAR