BEGIN:VCALENDAR
VERSION:2.0
PRODID:-//Technology 4 Tomorrow - ECPv6.15.20//NONSGML v1.0//EN
CALSCALE:GREGORIAN
METHOD:PUBLISH
X-ORIGINAL-URL:https://tech4tomorrow.org
X-WR-CALDESC:Events for Technology 4 Tomorrow
REFRESH-INTERVAL;VALUE=DURATION:PT1H
X-Robots-Tag:noindex
X-PUBLISHED-TTL:PT1H
BEGIN:VTIMEZONE
TZID:UTC
BEGIN:STANDARD
TZOFFSETFROM:+0000
TZOFFSETTO:+0000
TZNAME:UTC
DTSTART:20240101T000000
END:STANDARD
END:VTIMEZONE
BEGIN:VEVENT
DTSTART;TZID=UTC:20250612T100000
DTEND;TZID=UTC:20250612T120000
DTSTAMP:20260424T063357
CREATED:20250310T142617Z
LAST-MODIFIED:20250711T144431Z
UID:10000261-1749722400-1749729600@tech4tomorrow.org
SUMMARY:T4T / A4TD Mature Worker Digital Literacy Project '25
DESCRIPTION:Class #\nClass Topic – Basic Literacy\nClass Topic – Intermediate Literacy\n\nCohort 1\nCohort 2\nCohort 3\nCohort 4\nCohort 5\nCohort 6\n\n\n\n\n\n\n(11 participants)\n(10 participants)\n(11 participants)\n(10 participants)\n(11 participants)\n(10 participants)\n\n\n\n\n\n\nTuesday & Thursday\nWednesday and Friday\nTuesday & Thursday\nWednesday and Friday\nTuesday & Thursday\nWednesday and Friday\n\n\n1\nIntroduction to the Computer\nIntroduction to Search Engines\nWeek 1\n2/11/2025\n2/12/2025\n4/1/2025\n4/2/2025\n5/20/2025\n5/21/2025\n\n\n2\nIntroduction to Zoom Meetings\nMicrosoft OneDrive\nWeek 1\n2/13/2025\n2/14/2025\n4/3/2025\n4/4/2025\n5/22/2025\n5/23/2025\n\n\n3\nUnderstanding the Smartphone\nMicrosoft PowerPoint\nWeek 2\n2/18/2025\n2/19/2025\n4/8/2025\n4/9/2025\n5/27/2025\n5/28/2025\n\n\n4\nProtect Yourself from Scams\nAdvanced Microsoft Word\nWeek 2\n2/20/2025\n2/21/2025\n4/10/2025\n4/11/2025\n5/29/2025\n5/30/2025\n\n\n5\nMicrosoft Word\nAdvanced Word Workshop\nWeek 3\n2/25/2025\n2/26/2025\n4/15/2025\n4/16/2025\n6/3/2025\n6/4/2025\n\n\n6\nGoogle Docs\nAdvanced Microsoft Excel\nWeek 3\n2/27/2025\n2/28/2025\n4/17/2025\n4/18/2025\n6/5/2025\n6/6/2025\n\n\n7\nMicrosoft Outlook\nAdvanced Microsoft Excel Workshop\nWeek 4\n3/4/2025\n3/5/2025\n4/22/2025\n4/23/2025\n6/10/2025\n6/11/2025\n\n\n8\nGmail\nAdvanced Microsoft Outlook\nWeek 4\n3/6/2025\n3/7/2025\n4/24/2025\n4/25/2025\n6/12/2025\n6/13/2025\n\n\n9\nMicrosoft Excel\nAdvanced Microsoft Outlook Workshop\nWeek 5\n3/11/2025\n3/12/2025\n4/29/2025\n4/30/2025\n6/17/2025\n6/18/2025\n\n\n10\nGoogle Sheets\nLinkedIn\nWeek 5\n3/13/2025\n3/14/2025\n5/1/2025\n5/2/2025\n6/19/2025\n6/20/2025\n\n\n11\nCareer Workshops\nCareer Workshop\nWeek 6\n3/18/2025\n3/19/2025\n5/13/2025\n5/14/2025\n6/24/2025\n6/25/2025\n\n\n12\nCareer Workshops\nCareer Workshop\nWeek 6\n3/20/2025\n3/21/2025\n5/15/2025\n5/16/2025\n6/26/2025\n6/27/2025
URL:https://tech4tomorrow.org/event/t4t-a4td-mature-worker-digital-literacy-project-25-2/2025-06-12/
ATTACH;FMTTYPE=image/png:https://tech4tomorrow.org/wp-content/uploads/2025/02/Screenshot-2025-02-10-085456.png
END:VEVENT
BEGIN:VEVENT
DTSTART;TZID=UTC:20250612T103000
DTEND;TZID=UTC:20250612T120000
DTSTAMP:20260424T063357
CREATED:20250528T185134Z
LAST-MODIFIED:20250711T144733Z
UID:10000341-1749724200-1749729600@tech4tomorrow.org
SUMMARY:Converse Home Senior Planet Spring/Summer Classes 2025
DESCRIPTION:5/29 – Thursday\, 10:30 am – 12:00 pm: Smartphones\,\n6/5 – Thursday\, 10:30 am – 12:00 pm: Messaging Apps\,\n6/12 – Thursday\, 10:30 am – 12:00 pm: Video Chat\,\n6/19 – Thursday\, 10:30 am – 12:00 pm: Intro to Managing Your Privacy\,\n6/26 – Thursday\, 10:30 am – 12:00 pm: Protecting Your Personal Information Online
URL:https://tech4tomorrow.org/event/converse-home-senior-planet-spring-summer-classes-2025/2025-06-12/
ATTACH;FMTTYPE=image/jpeg:https://tech4tomorrow.org/wp-content/uploads/2025/05/converseHome.jpg
END:VEVENT
BEGIN:VEVENT
DTSTART;TZID=UTC:20250612T120000
DTEND;TZID=UTC:20250612T133000
DTSTAMP:20260424T063357
CREATED:20250103T151552Z
LAST-MODIFIED:20250711T143455Z
UID:10000139-1749729600-1749735000@tech4tomorrow.org
SUMMARY:AARP Vermont Tech Thursdays 2025
DESCRIPTION:Class #\nTopic\nDate\nTime\n\n\n1\nGmail Made Easy: Transform Your Inbox and Email Skills\n1/9/2025\n12pm – 1:30pm\n\n\n2\nUnlock Google Drive’s Potential\n1/23/2025\n12pm – 1:30pm\n\n\n3\nGoogle Translate: Unlock New Languages\n2/6/2025\n12pm – 1:30pm\n\n\n4\nGoogle Maps Basics: Navigate and Explore\n2/20/2025\n12pm – 1:30pm\n\n\n5\nTips and Tricks for Password Management\n3/6/2025\n12pm – 1:30pm\n\n\n6\nFundamentals of Internet Privacy\n3/20/2025\n12pm – 1:30pm\n\n\n7\nProtect Yourself from Scams\n4/3/2025\n12pm – 1:30pm\n\n\n8\nScams & AI\n4/17/2025\n12pm – 1:30pm\n\n\n9\nGoogle Photos\n5/1/2025\n12pm – 1:30pm\n\n\n10\nUnderstanding SmartPhones\n5/15/2025\n12pm – 1:30pm\n\n\n11\nIntro to iPhone\n6/12/2025\n12pm – 1:30pm\n\n\n12\nIntro to Android\n6/26/2025\n12pm – 1:30pm\n\n\n13\nIntro to Gmail\n7/10/2025\n12pm – 1:30pm\n\n\n14\nBasic Google Calendar\n7/24/2025\n12pm – 1:30pm\n\n\n15\nIntro to Search Engines\n8/7/2025\n12pm – 1:30pm\n\n\n16\nIntro to Internet and Web Browsing\n8/21/2025\n12pm – 1:30pm\n\n\n17\nIntro to AI\n9/18/2025\n12pm – 1:30pm\n\n\n18\nAI Extensions\n10/2/2025\n12pm – 1:30pm\n\n\n19\nBasic Google Maps\n10/16/2025\n12pm – 1:30pm\n\n\n20\nGoogle Photos\n11/13/2025\n12pm – 1:30pm\n\n\n21\nFacebook 101\n12/11/2025\n12pm – 1:30pm
URL:https://tech4tomorrow.org/event/aarp-vermont-tech-thursdays-2025/2025-06-12/
ATTACH;FMTTYPE=image/png:https://tech4tomorrow.org/wp-content/uploads/2024/06/AARP-1-e1725468803505.png
END:VEVENT
BEGIN:VEVENT
DTSTART;TZID=UTC:20250612T164500
DTEND;TZID=UTC:20250612T181500
DTSTAMP:20260424T063357
CREATED:20250414T165603Z
LAST-MODIFIED:20250711T144633Z
UID:10000277-1749746700-1749752100@tech4tomorrow.org
SUMMARY:Burlington Parent University Digital Literacy Spring 2025
DESCRIPTION:Starting on May 1st\, we will be launching a total of 10 classes to the Burlington Parent University! This stems from a project called the TechSpark Ignite project earlier this year. We will be providing classes to parents in our community with a focus on computers. We’ll also be teaching some additional classes to their Parent-Oriented groups alongside their Computer-oriented groups! Find all information below. Classes are held at the Family Room in Burlington Vermont’s Old North End. \nTopics: \n\nKnow your Rights\nOnline Resources for New Americans\nDealing with Misinformation\nVote in Class\n\nDates: \n\nMay 1st – Computer – Dealing with Misinformation\nMay 8th – Computer – Dealing with Misinformation\nMay 13th – Parent – Know your Rights\nMay 15th – Computer – Know your Rights\nMay 20th – Parent – Know your Rights\nMay 22nd – Computer – Know your Rights\nJune 5th – Computer – Online Resources for New Americans\nJune 12th – Computer – Online Resource for New Americans\nJune 19th – Computer – Vote
URL:https://tech4tomorrow.org/event/burlington-parent-university-digital-literacy-spring-2025/2025-06-12/
ATTACH;FMTTYPE=image/jpeg:https://tech4tomorrow.org/wp-content/uploads/2025/04/bpu25.jpg
END:VEVENT
END:VCALENDAR