BEGIN:VCALENDAR
VERSION:2.0
PRODID:-//Technology 4 Tomorrow - ECPv6.15.20//NONSGML v1.0//EN
CALSCALE:GREGORIAN
METHOD:PUBLISH
X-WR-CALNAME:Technology 4 Tomorrow
X-ORIGINAL-URL:https://tech4tomorrow.org
X-WR-CALDESC:Events for Technology 4 Tomorrow
REFRESH-INTERVAL;VALUE=DURATION:PT1H
X-Robots-Tag:noindex
X-PUBLISHED-TTL:PT1H
BEGIN:VTIMEZONE
TZID:UTC
BEGIN:STANDARD
TZOFFSETFROM:+0000
TZOFFSETTO:+0000
TZNAME:UTC
DTSTART:20240101T000000
END:STANDARD
END:VTIMEZONE
BEGIN:VEVENT
DTSTART;TZID=UTC:20250624T140000
DTEND;TZID=UTC:20250624T153000
DTSTAMP:20260424T063208
CREATED:20250528T184952Z
LAST-MODIFIED:20250711T144907Z
UID:10000337-1750773600-1750779000@tech4tomorrow.org
SUMMARY:CVCOA SeniorPlanet Classes Spring/Summer 2025
DESCRIPTION:6/11 – Wednesday\, 1:00 pm – 2:30 pm: How to Choose a New Computer\,\n6/17 – Tuesday\, 1:00 pm – 2:30 pm: Anti Virus and Malware Removal Programs At A Glance\,\n6/24 – Tuesday\, 2:00 pm – 3:30 pm: Streaming and Smart TVs\,\n7/1 – Tuesday\, 1:00 pm – 2:30 pm: Facebook
URL:https://tech4tomorrow.org/event/cvcoa-seniorplanet-classes-spring-summer-2025/2025-06-24/
ATTACH;FMTTYPE=image/png:https://tech4tomorrow.org/wp-content/uploads/2024/08/cvcoa_t4tweb2024.png
END:VEVENT
BEGIN:VEVENT
DTSTART;TZID=UTC:20250624T164500
DTEND;TZID=UTC:20250624T181500
DTSTAMP:20260424T063208
CREATED:20250528T184551Z
LAST-MODIFIED:20250711T145008Z
UID:10000334-1750783500-1750788900@tech4tomorrow.org
SUMMARY:Comcast - Burlington Parent University Password Management Class 2025
DESCRIPTION:On June 24th from 4:45 to 6:15\, Comcast will be visiting a special class event held alongside Burlington Parent University. This event will be open to any in the public\, featuring food\, drink\, and more. Comcast will be there taking photos for the event. \nThe class topic is Password Management.
URL:https://tech4tomorrow.org/event/comcast-burlington-parent-university-password-management-class-2025/
ATTACH;FMTTYPE=image/png:https://tech4tomorrow.org/wp-content/uploads/2024/06/Burlington-School-District-Parent-University-1-1-e1725468881362.png
END:VEVENT
END:VCALENDAR