BEGIN:VCALENDAR
VERSION:2.0
PRODID:-//Technology 4 Tomorrow - ECPv6.15.20//NONSGML v1.0//EN
CALSCALE:GREGORIAN
METHOD:PUBLISH
X-WR-CALNAME:Technology 4 Tomorrow
X-ORIGINAL-URL:https://tech4tomorrow.org
X-WR-CALDESC:Events for Technology 4 Tomorrow
REFRESH-INTERVAL;VALUE=DURATION:PT1H
X-Robots-Tag:noindex
X-PUBLISHED-TTL:PT1H
BEGIN:VTIMEZONE
TZID:UTC
BEGIN:STANDARD
TZOFFSETFROM:+0000
TZOFFSETTO:+0000
TZNAME:UTC
DTSTART:20240101T000000
END:STANDARD
END:VTIMEZONE
BEGIN:VEVENT
DTSTART;TZID=UTC:20250626T103000
DTEND;TZID=UTC:20250626T120000
DTSTAMP:20260424T063207
CREATED:20250528T185134Z
LAST-MODIFIED:20250711T144733Z
UID:10000343-1750933800-1750939200@tech4tomorrow.org
SUMMARY:Converse Home Senior Planet Spring/Summer Classes 2025
DESCRIPTION:5/29 – Thursday\, 10:30 am – 12:00 pm: Smartphones\,\n6/5 – Thursday\, 10:30 am – 12:00 pm: Messaging Apps\,\n6/12 – Thursday\, 10:30 am – 12:00 pm: Video Chat\,\n6/19 – Thursday\, 10:30 am – 12:00 pm: Intro to Managing Your Privacy\,\n6/26 – Thursday\, 10:30 am – 12:00 pm: Protecting Your Personal Information Online
URL:https://tech4tomorrow.org/event/converse-home-senior-planet-spring-summer-classes-2025/2025-06-26/
ATTACH;FMTTYPE=image/jpeg:https://tech4tomorrow.org/wp-content/uploads/2025/05/converseHome.jpg
END:VEVENT
BEGIN:VEVENT
DTSTART;TZID=UTC:20250626T120000
DTEND;TZID=UTC:20250626T133000
DTSTAMP:20260424T063207
CREATED:20250103T151552Z
LAST-MODIFIED:20250711T143455Z
UID:10000140-1750939200-1750944600@tech4tomorrow.org
SUMMARY:AARP Vermont Tech Thursdays 2025
DESCRIPTION:Class #\nTopic\nDate\nTime\n\n\n1\nGmail Made Easy: Transform Your Inbox and Email Skills\n1/9/2025\n12pm – 1:30pm\n\n\n2\nUnlock Google Drive’s Potential\n1/23/2025\n12pm – 1:30pm\n\n\n3\nGoogle Translate: Unlock New Languages\n2/6/2025\n12pm – 1:30pm\n\n\n4\nGoogle Maps Basics: Navigate and Explore\n2/20/2025\n12pm – 1:30pm\n\n\n5\nTips and Tricks for Password Management\n3/6/2025\n12pm – 1:30pm\n\n\n6\nFundamentals of Internet Privacy\n3/20/2025\n12pm – 1:30pm\n\n\n7\nProtect Yourself from Scams\n4/3/2025\n12pm – 1:30pm\n\n\n8\nScams & AI\n4/17/2025\n12pm – 1:30pm\n\n\n9\nGoogle Photos\n5/1/2025\n12pm – 1:30pm\n\n\n10\nUnderstanding SmartPhones\n5/15/2025\n12pm – 1:30pm\n\n\n11\nIntro to iPhone\n6/12/2025\n12pm – 1:30pm\n\n\n12\nIntro to Android\n6/26/2025\n12pm – 1:30pm\n\n\n13\nIntro to Gmail\n7/10/2025\n12pm – 1:30pm\n\n\n14\nBasic Google Calendar\n7/24/2025\n12pm – 1:30pm\n\n\n15\nIntro to Search Engines\n8/7/2025\n12pm – 1:30pm\n\n\n16\nIntro to Internet and Web Browsing\n8/21/2025\n12pm – 1:30pm\n\n\n17\nIntro to AI\n9/18/2025\n12pm – 1:30pm\n\n\n18\nAI Extensions\n10/2/2025\n12pm – 1:30pm\n\n\n19\nBasic Google Maps\n10/16/2025\n12pm – 1:30pm\n\n\n20\nGoogle Photos\n11/13/2025\n12pm – 1:30pm\n\n\n21\nFacebook 101\n12/11/2025\n12pm – 1:30pm
URL:https://tech4tomorrow.org/event/aarp-vermont-tech-thursdays-2025/2025-06-26/
ATTACH;FMTTYPE=image/png:https://tech4tomorrow.org/wp-content/uploads/2024/06/AARP-1-e1725468803505.png
END:VEVENT
BEGIN:VEVENT
DTSTART;TZID=UTC:20250626T164500
DTEND;TZID=UTC:20250626T181500
DTSTAMP:20260424T063207
CREATED:20250414T165603Z
LAST-MODIFIED:20250711T144633Z
UID:10000279-1750956300-1750961700@tech4tomorrow.org
SUMMARY:Burlington Parent University Digital Literacy Spring 2025
DESCRIPTION:Starting on May 1st\, we will be launching a total of 10 classes to the Burlington Parent University! This stems from a project called the TechSpark Ignite project earlier this year. We will be providing classes to parents in our community with a focus on computers. We’ll also be teaching some additional classes to their Parent-Oriented groups alongside their Computer-oriented groups! Find all information below. Classes are held at the Family Room in Burlington Vermont’s Old North End. \nTopics: \n\nKnow your Rights\nOnline Resources for New Americans\nDealing with Misinformation\nVote in Class\n\nDates: \n\nMay 1st – Computer – Dealing with Misinformation\nMay 8th – Computer – Dealing with Misinformation\nMay 13th – Parent – Know your Rights\nMay 15th – Computer – Know your Rights\nMay 20th – Parent – Know your Rights\nMay 22nd – Computer – Know your Rights\nJune 5th – Computer – Online Resources for New Americans\nJune 12th – Computer – Online Resource for New Americans\nJune 19th – Computer – Vote
URL:https://tech4tomorrow.org/event/burlington-parent-university-digital-literacy-spring-2025/2025-06-26/
ATTACH;FMTTYPE=image/jpeg:https://tech4tomorrow.org/wp-content/uploads/2025/04/bpu25.jpg
END:VEVENT
BEGIN:VEVENT
DTSTART;TZID=UTC:20250626T164500
DTEND;TZID=UTC:20250626T181500
DTSTAMP:20260424T063207
CREATED:20250630T140618Z
LAST-MODIFIED:20250804T142831Z
UID:10000280-1750956300-1750961700@tech4tomorrow.org
SUMMARY:Burlington Parent University Digital Literacy Spring 2025
DESCRIPTION:Starting on May 1st\, we will be launching a total of 10 classes to the Burlington Parent University! This stems from a project called the TechSpark Ignite project earlier this year. We will be providing classes to parents in our community with a focus on computers. We’ll also be teaching some additional classes to their Parent-Oriented groups alongside their Computer-oriented groups! Find all information below. Classes are held at the Family Room in Burlington Vermont’s Old North End. \nTopics: \n\nKnow your Rights\nOnline Resources for New Americans\nDealing with Misinformation\nVote in Class\n\nDates: \n\nMay 1st – Computer – Dealing with Misinformation\nMay 8th – Computer – Dealing with Misinformation\nMay 13th – Parent – Know your Rights\nMay 15th – Computer – Know your Rights\nMay 20th – Parent – Know your Rights\nMay 22nd – Computer – Know your Rights\nJune 5th – Computer – Online Resources for New Americans\nJune 12th – Computer – Online Resource for New Americans\nJune 19th – Computer – Vote
URL:https://tech4tomorrow.org/event/burlington-parent-university-digital-literacy-spring-2025-2/
ATTACH;FMTTYPE=image/jpeg:https://tech4tomorrow.org/wp-content/uploads/2025/04/bpu25.jpg
END:VEVENT
END:VCALENDAR