BEGIN:VCALENDAR
VERSION:2.0
PRODID:-//Technology 4 Tomorrow - ECPv6.15.20//NONSGML v1.0//EN
CALSCALE:GREGORIAN
METHOD:PUBLISH
X-WR-CALNAME:Technology 4 Tomorrow
X-ORIGINAL-URL:https://tech4tomorrow.org
X-WR-CALDESC:Events for Technology 4 Tomorrow
REFRESH-INTERVAL;VALUE=DURATION:PT1H
X-Robots-Tag:noindex
X-PUBLISHED-TTL:PT1H
BEGIN:VTIMEZONE
TZID:UTC
BEGIN:STANDARD
TZOFFSETFROM:+0000
TZOFFSETTO:+0000
TZNAME:UTC
DTSTART:20240101T000000
END:STANDARD
END:VTIMEZONE
BEGIN:VEVENT
DTSTART;TZID=UTC:20250701T130000
DTEND;TZID=UTC:20250701T143000
DTSTAMP:20260424T051144
CREATED:20250528T184952Z
LAST-MODIFIED:20250711T144907Z
UID:10000338-1751374800-1751380200@tech4tomorrow.org
SUMMARY:CVCOA SeniorPlanet Classes Spring/Summer 2025
DESCRIPTION:6/11 – Wednesday\, 1:00 pm – 2:30 pm: How to Choose a New Computer\,\n6/17 – Tuesday\, 1:00 pm – 2:30 pm: Anti Virus and Malware Removal Programs At A Glance\,\n6/24 – Tuesday\, 2:00 pm – 3:30 pm: Streaming and Smart TVs\,\n7/1 – Tuesday\, 1:00 pm – 2:30 pm: Facebook
URL:https://tech4tomorrow.org/event/cvcoa-seniorplanet-classes-spring-summer-2025/2025-07-01/
ATTACH;FMTTYPE=image/png:https://tech4tomorrow.org/wp-content/uploads/2024/08/cvcoa_t4tweb2024.png
END:VEVENT
END:VCALENDAR