BEGIN:VCALENDAR
VERSION:2.0
PRODID:-//Technology 4 Tomorrow - ECPv6.15.20//NONSGML v1.0//EN
CALSCALE:GREGORIAN
METHOD:PUBLISH
X-ORIGINAL-URL:https://tech4tomorrow.org
X-WR-CALDESC:Events for Technology 4 Tomorrow
REFRESH-INTERVAL;VALUE=DURATION:PT1H
X-Robots-Tag:noindex
X-PUBLISHED-TTL:PT1H
BEGIN:VTIMEZONE
TZID:UTC
BEGIN:STANDARD
TZOFFSETFROM:+0000
TZOFFSETTO:+0000
TZNAME:UTC
DTSTART:20240101T000000
END:STANDARD
END:VTIMEZONE
BEGIN:VEVENT
DTSTART;TZID=UTC:20250716T173000
DTEND;TZID=UTC:20250716T190000
DTSTAMP:20260424T051247
CREATED:20250602T184917Z
LAST-MODIFIED:20250711T145109Z
UID:10000398-1752687000-1752692400@tech4tomorrow.org
SUMMARY:USCRI Summer '25 Digital Literacy Program
DESCRIPTION:This class runs from 5:30pm to 7pm daily at the Burlington Technical Center at 29 Church Street in Burlington\, Vermont. It is a digital literacy program focused on some of the Google Suite and internet safety. \n\n6/25 – Intro to Gmail\n7/9 – Intro to Google Maps\n7/16 – Protect Yourself from Scams\n7/23 – Intro to Internet Privacy\n7/30 – Intro to Language Exchange Applications
URL:https://tech4tomorrow.org/event/uscri-summer-25-digital-literacy-program/2025-07-16/
ATTACH;FMTTYPE=image/jpeg:https://tech4tomorrow.org/wp-content/uploads/2024/06/US-Committee-for-Refugees-1.jpeg
END:VEVENT
END:VCALENDAR