BEGIN:VCALENDAR
VERSION:2.0
PRODID:-//Technology 4 Tomorrow - ECPv6.15.20//NONSGML v1.0//EN
CALSCALE:GREGORIAN
METHOD:PUBLISH
X-WR-CALNAME:Technology 4 Tomorrow
X-ORIGINAL-URL:https://tech4tomorrow.org
X-WR-CALDESC:Events for Technology 4 Tomorrow
REFRESH-INTERVAL;VALUE=DURATION:PT1H
X-Robots-Tag:noindex
X-PUBLISHED-TTL:PT1H
BEGIN:VTIMEZONE
TZID:UTC
BEGIN:STANDARD
TZOFFSETFROM:+0000
TZOFFSETTO:+0000
TZNAME:UTC
DTSTART:20240101T000000
END:STANDARD
END:VTIMEZONE
BEGIN:VEVENT
DTSTART;TZID=UTC:20250818T080000
DTEND;TZID=UTC:20250818T170000
DTSTAMP:20260424T035140
CREATED:20250818T134938Z
LAST-MODIFIED:20250818T141024Z
UID:10000413-1755504000-1755536400@tech4tomorrow.org
SUMMARY:Comcast Digital Navigation: Family Room Staff Training 2025
DESCRIPTION:Family Room Staff 2025 – Maliki LaForce\n\n\nDATE: 9/17/2025 – 12/31/2025\n20 Allen Street\, Burlington VT – Class Time: 4:45pm – 6:15pm\n\n\n1\n9/17/2025\nScam Prevention\n\nfuture staff classes coming\, running one first to gauge topic interest\n\n\n\n2\nx\nx\n\n\n3\nx\nx\n\n\n4\nx\nx\n\n\n5\nx\nx
URL:https://tech4tomorrow.org/event/comcast-digital-navigation-family-room-staff-training-2025/
ATTACH;FMTTYPE=image/png:https://tech4tomorrow.org/wp-content/uploads/2025/07/the-family-room-vtlogo.png
END:VEVENT
END:VCALENDAR