BEGIN:VCALENDAR
VERSION:2.0
PRODID:-//Technology 4 Tomorrow - ECPv6.15.20//NONSGML v1.0//EN
CALSCALE:GREGORIAN
METHOD:PUBLISH
X-WR-CALNAME:Technology 4 Tomorrow
X-ORIGINAL-URL:https://tech4tomorrow.org
X-WR-CALDESC:Events for Technology 4 Tomorrow
REFRESH-INTERVAL;VALUE=DURATION:PT1H
X-Robots-Tag:noindex
X-PUBLISHED-TTL:PT1H
BEGIN:VTIMEZONE
TZID:UTC
BEGIN:STANDARD
TZOFFSETFROM:+0000
TZOFFSETTO:+0000
TZNAME:UTC
DTSTART:20240101T000000
END:STANDARD
END:VTIMEZONE
BEGIN:VEVENT
DTSTART;TZID=UTC:20250909T123000
DTEND;TZID=UTC:20250909T133000
DTSTAMP:20260424T023139
CREATED:20250616T141043Z
LAST-MODIFIED:20250711T145239Z
UID:10000402-1757421000-1757424600@tech4tomorrow.org
SUMMARY:Williston Parks & Rec Fall '25 Digital Literacy Class Series
DESCRIPTION:Class runs from 12:30pm – 1:30pm at Williston’s Park & Rec at 94 Harvest Lane\, Williston\, VT \n\nSept. 9th: Google Maps\nOct. 7th: Tips for Being News Savvy Online\nNov. 4th: Streaming & Smart TVs\nDec. 2nd: Online Shopping
URL:https://tech4tomorrow.org/event/williston-parks-rec-fall-25-digital-literacy-class-series/2025-09-09/
END:VEVENT
END:VCALENDAR