BEGIN:VCALENDAR
VERSION:2.0
PRODID:-//Technology 4 Tomorrow - ECPv6.15.20//NONSGML v1.0//EN
CALSCALE:GREGORIAN
METHOD:PUBLISH
X-WR-CALNAME:Technology 4 Tomorrow
X-ORIGINAL-URL:https://tech4tomorrow.org
X-WR-CALDESC:Events for Technology 4 Tomorrow
REFRESH-INTERVAL;VALUE=DURATION:PT1H
X-Robots-Tag:noindex
X-PUBLISHED-TTL:PT1H
BEGIN:VTIMEZONE
TZID:UTC
BEGIN:STANDARD
TZOFFSETFROM:+0000
TZOFFSETTO:+0000
TZNAME:UTC
DTSTART:20240101T000000
END:STANDARD
END:VTIMEZONE
BEGIN:VEVENT
DTSTART;TZID=UTC:20250919T130000
DTEND;TZID=UTC:20250919T143000
DTSTAMP:20260424T023631
CREATED:20250818T140542Z
LAST-MODIFIED:20250818T140851Z
UID:10000423-1758286800-1758292200@tech4tomorrow.org
SUMMARY:Comcast Digital Navigation: HireAbility '25
DESCRIPTION:Class #\nClass Date\nClass Title\nNotes\n\n\nHireAbility Basic Literacy 2025 – Maliki LaForce\n\n\n9/12/2025 – 10/17/2025\n128 Lakeside Ave\, Burlington\, VT 05401 – Time of Class: 1:00 pm – 2:30 pm (1.5 Hours)\n\n\n1\n9/12/2025\nLinkedIn\n\n\n\n2\n9/19/2025\nProtection from Scams\n\n\n\n3\n10/3/2025\nIntro to MS Word\n\n\n\n4\n10/10/2025\nIntro to MS Excel\n\n\n\n5\n10/17/2025\nIntro to MS PowerPoint
URL:https://tech4tomorrow.org/event/comcast-digital-navigation-hireability-25/2025-09-19/
ATTACH;FMTTYPE=image/png:https://tech4tomorrow.org/wp-content/uploads/2024/06/HireabilityVT-1-e1725468952518.png
END:VEVENT
END:VCALENDAR