BEGIN:VCALENDAR
VERSION:2.0
PRODID:-//Technology 4 Tomorrow - ECPv6.15.20//NONSGML v1.0//EN
CALSCALE:GREGORIAN
METHOD:PUBLISH
X-ORIGINAL-URL:https://tech4tomorrow.org
X-WR-CALDESC:Events for Technology 4 Tomorrow
REFRESH-INTERVAL;VALUE=DURATION:PT1H
X-Robots-Tag:noindex
X-PUBLISHED-TTL:PT1H
BEGIN:VTIMEZONE
TZID:UTC
BEGIN:STANDARD
TZOFFSETFROM:+0000
TZOFFSETTO:+0000
TZNAME:UTC
DTSTART:20240101T000000
END:STANDARD
END:VTIMEZONE
BEGIN:VEVENT
DTSTART;TZID=UTC:20250922T123000
DTEND;TZID=UTC:20250922T140000
DTSTAMP:20260424T023832
CREATED:20250825T151403Z
LAST-MODIFIED:20250825T151403Z
UID:10000427-1758544200-1758549600@tech4tomorrow.org
SUMMARY:Comcast Digital Navigation: Boys & Girls Club\, Burlington
DESCRIPTION:Class #\nClass Date\nClass Title\nNotes\n\n\nTech Class B&G Club 2025 – Maliki LaForce\n\n\n9/22/2025 – 12/31/2025\n62 Oak Street\, Burlington\, VT – 12:30pm to 2pm\n\n\n1\n9/22/2025\nAdvanced Outlook: Calendar\n\n\n\n2\nComing Soon…\nComing Soon…\n\n\n\n3\nComing Soon…\nComing Soon…\n\n\n\n4\nComing Soon…\nComing Soon…\n\n\n\n5\nComing Soon…\nComing Soon…
URL:https://tech4tomorrow.org/event/comcast-digital-navigation-boys-girls-club-burlington/
ATTACH;FMTTYPE=image/jpeg:https://tech4tomorrow.org/wp-content/uploads/2025/08/bgcBurlingtonLogo.jpg
END:VEVENT
END:VCALENDAR