BEGIN:VCALENDAR
VERSION:2.0
PRODID:-//Technology 4 Tomorrow - ECPv6.15.20//NONSGML v1.0//EN
CALSCALE:GREGORIAN
METHOD:PUBLISH
X-ORIGINAL-URL:https://tech4tomorrow.org
X-WR-CALDESC:Events for Technology 4 Tomorrow
REFRESH-INTERVAL;VALUE=DURATION:PT1H
X-Robots-Tag:noindex
X-PUBLISHED-TTL:PT1H
BEGIN:VTIMEZONE
TZID:UTC
BEGIN:STANDARD
TZOFFSETFROM:+0000
TZOFFSETTO:+0000
TZNAME:UTC
DTSTART:20240101T000000
END:STANDARD
END:VTIMEZONE
BEGIN:VEVENT
DTSTART;TZID=UTC:20251001T093000
DTEND;TZID=UTC:20251001T110000
DTSTAMP:20260424T011258
CREATED:20250818T134743Z
LAST-MODIFIED:20251006T132043Z
UID:10000458-1759311000-1759316400@tech4tomorrow.org
SUMMARY:Family Room Parent Training '25
DESCRIPTION:Class #\nClass Date\nClass Title\nNotes\n\n\nFamily Room Parents 2025 – Maliki LaForce\n\n\nDATE: 9/10/2025 – 12/31/2025\n20 Allen Street\, Burlington VT – Class Time: 9:30 am – 11:00 am\n\n\n1\n9/10/2025\nScam Prevention\n\n\n\n2\n9/17/2025\nScam Prevention Recap\n\n\n3\n10/1/2025\nScam Prevention: Examples\n\n\n4\n10/8/2025\nParental Internet Safety\n\n\n5\nx\nx
URL:https://tech4tomorrow.org/event/family-room-parent-training-25/2025-10-01/
ATTACH;FMTTYPE=image/png:https://tech4tomorrow.org/wp-content/uploads/2025/07/the-family-room-vtlogo.png
END:VEVENT
END:VCALENDAR