BEGIN:VCALENDAR
VERSION:2.0
PRODID:-//Technology 4 Tomorrow - ECPv6.15.20//NONSGML v1.0//EN
CALSCALE:GREGORIAN
METHOD:PUBLISH
X-ORIGINAL-URL:https://tech4tomorrow.org
X-WR-CALDESC:Events for Technology 4 Tomorrow
REFRESH-INTERVAL;VALUE=DURATION:PT1H
X-Robots-Tag:noindex
X-PUBLISHED-TTL:PT1H
BEGIN:VTIMEZONE
TZID:UTC
BEGIN:STANDARD
TZOFFSETFROM:+0000
TZOFFSETTO:+0000
TZNAME:UTC
DTSTART:20240101T000000
END:STANDARD
END:VTIMEZONE
BEGIN:VEVENT
DTSTART;TZID=UTC:20251002T090000
DTEND;TZID=UTC:20251002T103000
DTSTAMP:20260424T011403
CREATED:20250825T151748Z
LAST-MODIFIED:20250825T151903Z
UID:10000428-1759395600-1759401000@tech4tomorrow.org
SUMMARY:Comcast Digital Navigation: New England Kingdom Council on Aging
DESCRIPTION:Class #\nClass Date\nClass Title\nNotes\n\n\nNEKCA – Train the Trainer – Basic Literacy\n\n\n09/30/2025 – 10/28/2025\nRemote – Time of Class: 9:00 am – 10:30 am (1.5 Hour)\n\n\n1\n10/2/2025\nTrain the Trainer 101\n\n\n\n2\n10/9/2025\nTrain the Trainer 102\n\n\n\n3\n10/16/2025\nProtecting Yourself from Scams\n\n\n\n4\n10/23/2025\nFundamentals of Internet Privacy\n\n\n\n5\n10/30/2025\nPassword Management\n\n\n\n6\n11/6/2025\nUnderstanding AI\n\n\n\n7\n11/13/2025\nScams and AI
URL:https://tech4tomorrow.org/event/comcast-digital-navigation-new-england-kingdom-council-on-aging/2025-10-02/
END:VEVENT
BEGIN:VEVENT
DTSTART;TZID=UTC:20251002T103000
DTEND;TZID=UTC:20251002T120000
DTSTAMP:20260424T011403
CREATED:20250630T140642Z
LAST-MODIFIED:20250711T145303Z
UID:10000357-1759401000-1759406400@tech4tomorrow.org
SUMMARY:Converse Home Senior Planet Spring/Summer Classes 2025
DESCRIPTION:5/29 – Thursday\, 10:30 am – 12:00 pm: Smartphones\,\n6/5 – Thursday\, 10:30 am – 12:00 pm: Messaging Apps\,\n6/12 – Thursday\, 10:30 am – 12:00 pm: Video Chat\,\n6/19 – Thursday\, 10:30 am – 12:00 pm: Intro to Managing Your Privacy\,\n6/26 – Thursday\, 10:30 am – 12:00 pm: Protecting Your Personal Information Online
URL:https://tech4tomorrow.org/event/converse-home-senior-planet-spring-summer-classes-2025-2/2025-10-02/
ATTACH;FMTTYPE=image/jpeg:https://tech4tomorrow.org/wp-content/uploads/2025/05/converseHome.jpg
END:VEVENT
BEGIN:VEVENT
DTSTART;TZID=UTC:20251002T120000
DTEND;TZID=UTC:20251002T133000
DTSTAMP:20260424T011403
CREATED:20250103T151552Z
LAST-MODIFIED:20250711T143455Z
UID:10000146-1759406400-1759411800@tech4tomorrow.org
SUMMARY:AARP Vermont Tech Thursdays 2025
DESCRIPTION:Class #\nTopic\nDate\nTime\n\n\n1\nGmail Made Easy: Transform Your Inbox and Email Skills\n1/9/2025\n12pm – 1:30pm\n\n\n2\nUnlock Google Drive’s Potential\n1/23/2025\n12pm – 1:30pm\n\n\n3\nGoogle Translate: Unlock New Languages\n2/6/2025\n12pm – 1:30pm\n\n\n4\nGoogle Maps Basics: Navigate and Explore\n2/20/2025\n12pm – 1:30pm\n\n\n5\nTips and Tricks for Password Management\n3/6/2025\n12pm – 1:30pm\n\n\n6\nFundamentals of Internet Privacy\n3/20/2025\n12pm – 1:30pm\n\n\n7\nProtect Yourself from Scams\n4/3/2025\n12pm – 1:30pm\n\n\n8\nScams & AI\n4/17/2025\n12pm – 1:30pm\n\n\n9\nGoogle Photos\n5/1/2025\n12pm – 1:30pm\n\n\n10\nUnderstanding SmartPhones\n5/15/2025\n12pm – 1:30pm\n\n\n11\nIntro to iPhone\n6/12/2025\n12pm – 1:30pm\n\n\n12\nIntro to Android\n6/26/2025\n12pm – 1:30pm\n\n\n13\nIntro to Gmail\n7/10/2025\n12pm – 1:30pm\n\n\n14\nBasic Google Calendar\n7/24/2025\n12pm – 1:30pm\n\n\n15\nIntro to Search Engines\n8/7/2025\n12pm – 1:30pm\n\n\n16\nIntro to Internet and Web Browsing\n8/21/2025\n12pm – 1:30pm\n\n\n17\nIntro to AI\n9/18/2025\n12pm – 1:30pm\n\n\n18\nAI Extensions\n10/2/2025\n12pm – 1:30pm\n\n\n19\nBasic Google Maps\n10/16/2025\n12pm – 1:30pm\n\n\n20\nGoogle Photos\n11/13/2025\n12pm – 1:30pm\n\n\n21\nFacebook 101\n12/11/2025\n12pm – 1:30pm
URL:https://tech4tomorrow.org/event/aarp-vermont-tech-thursdays-2025/2025-10-02/
ATTACH;FMTTYPE=image/png:https://tech4tomorrow.org/wp-content/uploads/2024/06/AARP-1-e1725468803505.png
END:VEVENT
END:VCALENDAR