BEGIN:VCALENDAR
VERSION:2.0
PRODID:-//Technology 4 Tomorrow - ECPv6.15.20//NONSGML v1.0//EN
CALSCALE:GREGORIAN
METHOD:PUBLISH
X-WR-CALNAME:Technology 4 Tomorrow
X-ORIGINAL-URL:https://tech4tomorrow.org
X-WR-CALDESC:Events for Technology 4 Tomorrow
REFRESH-INTERVAL;VALUE=DURATION:PT1H
X-Robots-Tag:noindex
X-PUBLISHED-TTL:PT1H
BEGIN:VTIMEZONE
TZID:UTC
BEGIN:STANDARD
TZOFFSETFROM:+0000
TZOFFSETTO:+0000
TZNAME:UTC
DTSTART:20240101T000000
END:STANDARD
END:VTIMEZONE
BEGIN:VEVENT
DTSTART;TZID=UTC:20251028T130000
DTEND;TZID=UTC:20251028T143000
DTSTAMP:20260423T234855
CREATED:20250902T155834Z
LAST-MODIFIED:20250902T155834Z
UID:10000439-1761656400-1761661800@tech4tomorrow.org
SUMMARY:Vermont Adult Learning Digital Navigation '25
DESCRIPTION:Class #\nClass Date\nClass Title\nNotes\n\n\nVAL – Train the Trainer – Basic Literacy\n\n\n09/30/2025 – 10/28/2025\nRemote – Time of Class: 1:00 pm – 2:30 pm (1.5 Hour)\n\n\n1\n9/30/2025\nGoogle Drive\nAwaiting confirmation of Proposal\n\n\n2\n10/7/2025\nGoogle Docs – Basic\n\n\n\n3\n10/14/2025\nGoogle Sheets – Basic\n\n\n\n4\n10/21/2025\nGoogle Calendar\n\n\n\n5\n10/28/2025\nAdvanced Gmail
URL:https://tech4tomorrow.org/event/vermont-adult-learning-digital-navigation-25/2025-10-28/
END:VEVENT
BEGIN:VEVENT
DTSTART;TZID=UTC:20251028T153000
DTEND;TZID=UTC:20251028T170000
DTSTAMP:20260423T234855
CREATED:20251013T135644Z
LAST-MODIFIED:20251013T135701Z
UID:10000495-1761665400-1761670800@tech4tomorrow.org
SUMMARY:BDCC: Digital Literacy Fall '25
DESCRIPTION:This series will focus on providing a basic level of training on the Google Suite. Each topic will feature a lecture\, intended to communicate and understand a tool\, as well as a dedicated workshop to practice the skills of a particular program: \n\n\n\nClass Topic\nDate & Time\nNotes\n\n\nGoogle Drive\nMonday\, 10/20  \n10:00 am – 11:30am\n\n\n\nGoogle Drive Workshop\nTuesday\, 10/21 \n3:30 pm – 5:00 pm\n\n\n\nGoogle Docs\nMonday\, 10/27 \n10:00 am – 11:30am\n\n\n\nGoogle Docs Workshop\nTuesday\, 10/28 \n3:30 pm – 5:00 pm\n\n\n\nGoogle Calendar\nMonday\, 11/3 \n10:00 am – 11:30am\n\n\n\nGoogle Calendar Workshop\nTuesday\, 11/4 \n3:30 pm – 5:00 pm\n\n\n\nGmail\nMonday\, 11/10 \n10:00 am – 11:30am\n\n\n\nGmail Workshop\nTuesday\, 11/11 \n3:30 pm – 5:00 pm\n\n\n\nGoogle Sheets\nMonday\, 11/17 \n10:00 am – 11:30am\n\n\n\nGoogle Sheets Workshop\nTuesday\, 11/18 \n3:30 pm – 5:00 pm\n\n\n\nGoogle Slides\nMonday\, 11/24 \n10:00 am – 11:30am\n\n\n\nGoogle Slides Workshop\nTuesday\, 11/25 \n3:30 pm – 5:00 pm\n\n\n\nGoogle Meets / Zoom\nMonday\, 12/1 \n10:00 am – 11:30am\n\n\n\nG-Suite → Microsoft Suite\nTuesday\, 12/2 \n3:30 pm – 5:00 pm
URL:https://tech4tomorrow.org/event/bdcc-digital-literacy-25-26/2025-10-28/
ATTACH;FMTTYPE=image/png:https://tech4tomorrow.org/wp-content/uploads/2025/08/Screenshot-2025-08-18-095434.png
END:VEVENT
END:VCALENDAR