BEGIN:VCALENDAR
VERSION:2.0
PRODID:-//Technology 4 Tomorrow - ECPv6.15.20//NONSGML v1.0//EN
CALSCALE:GREGORIAN
METHOD:PUBLISH
X-ORIGINAL-URL:https://tech4tomorrow.org
X-WR-CALDESC:Events for Technology 4 Tomorrow
REFRESH-INTERVAL;VALUE=DURATION:PT1H
X-Robots-Tag:noindex
X-PUBLISHED-TTL:PT1H
BEGIN:VTIMEZONE
TZID:UTC
BEGIN:STANDARD
TZOFFSETFROM:+0000
TZOFFSETTO:+0000
TZNAME:UTC
DTSTART:20240101T000000
END:STANDARD
END:VTIMEZONE
BEGIN:VEVENT
DTSTART;TZID=UTC:20251030T090000
DTEND;TZID=UTC:20251030T103000
DTSTAMP:20260423T235047
CREATED:20250825T151748Z
LAST-MODIFIED:20250825T151903Z
UID:10000432-1761814800-1761820200@tech4tomorrow.org
SUMMARY:Comcast Digital Navigation: New England Kingdom Council on Aging
DESCRIPTION:Class #\nClass Date\nClass Title\nNotes\n\n\nNEKCA – Train the Trainer – Basic Literacy\n\n\n09/30/2025 – 10/28/2025\nRemote – Time of Class: 9:00 am – 10:30 am (1.5 Hour)\n\n\n1\n10/2/2025\nTrain the Trainer 101\n\n\n\n2\n10/9/2025\nTrain the Trainer 102\n\n\n\n3\n10/16/2025\nProtecting Yourself from Scams\n\n\n\n4\n10/23/2025\nFundamentals of Internet Privacy\n\n\n\n5\n10/30/2025\nPassword Management\n\n\n\n6\n11/6/2025\nUnderstanding AI\n\n\n\n7\n11/13/2025\nScams and AI
URL:https://tech4tomorrow.org/event/comcast-digital-navigation-new-england-kingdom-council-on-aging/2025-10-30/
END:VEVENT
BEGIN:VEVENT
DTSTART;TZID=UTC:20251030T103000
DTEND;TZID=UTC:20251030T120000
DTSTAMP:20260423T235047
CREATED:20250630T140642Z
LAST-MODIFIED:20250711T145303Z
UID:10000361-1761820200-1761825600@tech4tomorrow.org
SUMMARY:Converse Home Senior Planet Spring/Summer Classes 2025
DESCRIPTION:5/29 – Thursday\, 10:30 am – 12:00 pm: Smartphones\,\n6/5 – Thursday\, 10:30 am – 12:00 pm: Messaging Apps\,\n6/12 – Thursday\, 10:30 am – 12:00 pm: Video Chat\,\n6/19 – Thursday\, 10:30 am – 12:00 pm: Intro to Managing Your Privacy\,\n6/26 – Thursday\, 10:30 am – 12:00 pm: Protecting Your Personal Information Online
URL:https://tech4tomorrow.org/event/converse-home-senior-planet-spring-summer-classes-2025-2/2025-10-30/
ATTACH;FMTTYPE=image/jpeg:https://tech4tomorrow.org/wp-content/uploads/2025/05/converseHome.jpg
END:VEVENT
BEGIN:VEVENT
DTSTART;TZID=UTC:20251030T130000
DTEND;TZID=UTC:20251030T143000
DTSTAMP:20260423T235047
CREATED:20250818T135510Z
LAST-MODIFIED:20250825T150856Z
UID:10000416-1761829200-1761834600@tech4tomorrow.org
SUMMARY:Comcast Digital Navigation: BDCC '25
DESCRIPTION:Class #\nClass Date\nClass Title\nNotes\n\n\nBDCC – Train the Trainer – Basic Literacy\n\n\n10/23/2025 – 12/11/2025\nRemote – Time of Class: 1:00 pm – 2:30 pm (1.5 Hour)\n\n\n1\n10/23/2025\nTraining 101\n\n\n\n2\n10/30/2025\nTraining 102\n\n\n\n3\n11/6/2025\nGoogle Drive\nLeave paper/phone to enter computer world and Internet\n\n\n4\n11/13/2025\nBasic + Adv. Sheets\nPlanning + Crunching numbers\n\n\n5\n11/20/2025\nIntroducing + Generative AI\nGenerating + Using AI to assist with personal documentation\n\n\n6\n12/4/2025\nBasic + Adv. Slides\nPresenting\n\n\n7\n12/11/2025\nScams + Privacy + AI Scams\nBrowsing Internet\, searching\, research\, and staying safe online
URL:https://tech4tomorrow.org/event/comcast-digital-navigation-bdcc-25/2025-10-30/
ATTACH;FMTTYPE=image/png:https://tech4tomorrow.org/wp-content/uploads/2025/08/Screenshot-2025-08-18-095434.png
END:VEVENT
END:VCALENDAR