BEGIN:VCALENDAR
VERSION:2.0
PRODID:-//Technology 4 Tomorrow - ECPv6.15.20//NONSGML v1.0//EN
CALSCALE:GREGORIAN
METHOD:PUBLISH
X-WR-CALNAME:Technology 4 Tomorrow
X-ORIGINAL-URL:https://tech4tomorrow.org
X-WR-CALDESC:Events for Technology 4 Tomorrow
REFRESH-INTERVAL;VALUE=DURATION:PT1H
X-Robots-Tag:noindex
X-PUBLISHED-TTL:PT1H
BEGIN:VTIMEZONE
TZID:UTC
BEGIN:STANDARD
TZOFFSETFROM:+0000
TZOFFSETTO:+0000
TZNAME:UTC
DTSTART:20240101T000000
END:STANDARD
END:VTIMEZONE
BEGIN:VEVENT
DTSTART;TZID=UTC:20251104T123000
DTEND;TZID=UTC:20251104T133000
DTSTAMP:20260424T000422
CREATED:20250616T141043Z
LAST-MODIFIED:20250711T145239Z
UID:10000404-1762259400-1762263000@tech4tomorrow.org
SUMMARY:Williston Parks & Rec Fall '25 Digital Literacy Class Series
DESCRIPTION:Class runs from 12:30pm – 1:30pm at Williston’s Park & Rec at 94 Harvest Lane\, Williston\, VT \n\nSept. 9th: Google Maps\nOct. 7th: Tips for Being News Savvy Online\nNov. 4th: Streaming & Smart TVs\nDec. 2nd: Online Shopping
URL:https://tech4tomorrow.org/event/williston-parks-rec-fall-25-digital-literacy-class-series/2025-11-04/
END:VEVENT
BEGIN:VEVENT
DTSTART;TZID=UTC:20251104T153000
DTEND;TZID=UTC:20251104T170000
DTSTAMP:20260424T000422
CREATED:20251013T135644Z
LAST-MODIFIED:20251013T135701Z
UID:10000497-1762270200-1762275600@tech4tomorrow.org
SUMMARY:BDCC: Digital Literacy Fall '25
DESCRIPTION:This series will focus on providing a basic level of training on the Google Suite. Each topic will feature a lecture\, intended to communicate and understand a tool\, as well as a dedicated workshop to practice the skills of a particular program: \n\n\n\nClass Topic\nDate & Time\nNotes\n\n\nGoogle Drive\nMonday\, 10/20  \n10:00 am – 11:30am\n\n\n\nGoogle Drive Workshop\nTuesday\, 10/21 \n3:30 pm – 5:00 pm\n\n\n\nGoogle Docs\nMonday\, 10/27 \n10:00 am – 11:30am\n\n\n\nGoogle Docs Workshop\nTuesday\, 10/28 \n3:30 pm – 5:00 pm\n\n\n\nGoogle Calendar\nMonday\, 11/3 \n10:00 am – 11:30am\n\n\n\nGoogle Calendar Workshop\nTuesday\, 11/4 \n3:30 pm – 5:00 pm\n\n\n\nGmail\nMonday\, 11/10 \n10:00 am – 11:30am\n\n\n\nGmail Workshop\nTuesday\, 11/11 \n3:30 pm – 5:00 pm\n\n\n\nGoogle Sheets\nMonday\, 11/17 \n10:00 am – 11:30am\n\n\n\nGoogle Sheets Workshop\nTuesday\, 11/18 \n3:30 pm – 5:00 pm\n\n\n\nGoogle Slides\nMonday\, 11/24 \n10:00 am – 11:30am\n\n\n\nGoogle Slides Workshop\nTuesday\, 11/25 \n3:30 pm – 5:00 pm\n\n\n\nGoogle Meets / Zoom\nMonday\, 12/1 \n10:00 am – 11:30am\n\n\n\nG-Suite → Microsoft Suite\nTuesday\, 12/2 \n3:30 pm – 5:00 pm
URL:https://tech4tomorrow.org/event/bdcc-digital-literacy-25-26/2025-11-04/
ATTACH;FMTTYPE=image/png:https://tech4tomorrow.org/wp-content/uploads/2025/08/Screenshot-2025-08-18-095434.png
END:VEVENT
END:VCALENDAR