BEGIN:VCALENDAR
VERSION:2.0
PRODID:-//Technology 4 Tomorrow - ECPv6.15.20//NONSGML v1.0//EN
CALSCALE:GREGORIAN
METHOD:PUBLISH
X-WR-CALNAME:Technology 4 Tomorrow
X-ORIGINAL-URL:https://tech4tomorrow.org
X-WR-CALDESC:Events for Technology 4 Tomorrow
REFRESH-INTERVAL;VALUE=DURATION:PT1H
X-Robots-Tag:noindex
X-PUBLISHED-TTL:PT1H
BEGIN:VTIMEZONE
TZID:UTC
BEGIN:STANDARD
TZOFFSETFROM:+0000
TZOFFSETTO:+0000
TZNAME:UTC
DTSTART:20240101T000000
END:STANDARD
END:VTIMEZONE
BEGIN:VEVENT
DTSTART;TZID=UTC:20251218T103000
DTEND;TZID=UTC:20251218T120000
DTSTAMP:20260423T223424
CREATED:20250630T140642Z
LAST-MODIFIED:20250711T145303Z
UID:10000368-1766053800-1766059200@tech4tomorrow.org
SUMMARY:Converse Home Senior Planet Spring/Summer Classes 2025
DESCRIPTION:5/29 – Thursday\, 10:30 am – 12:00 pm: Smartphones\,\n6/5 – Thursday\, 10:30 am – 12:00 pm: Messaging Apps\,\n6/12 – Thursday\, 10:30 am – 12:00 pm: Video Chat\,\n6/19 – Thursday\, 10:30 am – 12:00 pm: Intro to Managing Your Privacy\,\n6/26 – Thursday\, 10:30 am – 12:00 pm: Protecting Your Personal Information Online
URL:https://tech4tomorrow.org/event/converse-home-senior-planet-spring-summer-classes-2025-2/2025-12-18/
ATTACH;FMTTYPE=image/jpeg:https://tech4tomorrow.org/wp-content/uploads/2025/05/converseHome.jpg
END:VEVENT
BEGIN:VEVENT
DTSTART;TZID=UTC:20251218T164500
DTEND;TZID=UTC:20251218T181500
DTSTAMP:20260423T223424
CREATED:20251013T132950Z
LAST-MODIFIED:20251013T133010Z
UID:10000486-1766076300-1766081700@tech4tomorrow.org
SUMMARY:Burlington Parent University Thursdays Q4 2025
DESCRIPTION:Class #\nClass Date\nClass Title\nNotes\n\n\nBPU Thursdays – Maliki LaForce\n\n\nDATE: 10/16/2026 – 12/18/2025\n20 Allen Street\, Burlington VT – Class Time: 4:45pm – 6:15pm\n\n\n1\n10/16/2025\nInternet Privacy\n\n\n\n\n\n2\n10/30/2025\nDirect Tech Assistance\n\n\n3\n11/6/2025\nFamily Internet Safety\n\n\n4\n11/13/2025\nDirect Tech Assistance\n\n\n5\n12/4/2025\nFamily Internet Safety\n\n\n6\n12/11/2025\nDirect Tech Assistance\n\n\n7\n12/18/2025\nScam Prevention
URL:https://tech4tomorrow.org/event/burlington-parent-university-thursdays-q4-2025/2025-12-18/
ATTACH;FMTTYPE=image/png:https://tech4tomorrow.org/wp-content/uploads/2024/08/bpu_t4tweb2024.png
END:VEVENT
END:VCALENDAR