BEGIN:VCALENDAR
VERSION:2.0
PRODID:-//Technology 4 Tomorrow - ECPv6.15.20//NONSGML v1.0//EN
CALSCALE:GREGORIAN
METHOD:PUBLISH
X-ORIGINAL-URL:https://tech4tomorrow.org
X-WR-CALDESC:Events for Technology 4 Tomorrow
REFRESH-INTERVAL;VALUE=DURATION:PT1H
X-Robots-Tag:noindex
X-PUBLISHED-TTL:PT1H
BEGIN:VTIMEZONE
TZID:UTC
BEGIN:STANDARD
TZOFFSETFROM:+0000
TZOFFSETTO:+0000
TZNAME:UTC
DTSTART:20250101T000000
END:STANDARD
END:VTIMEZONE
BEGIN:VEVENT
DTSTART;TZID=UTC:20260115T103000
DTEND;TZID=UTC:20260115T120000
DTSTAMP:20260423T211413
CREATED:20250630T140642Z
LAST-MODIFIED:20250711T145303Z
UID:10000372-1768473000-1768478400@tech4tomorrow.org
SUMMARY:Converse Home Senior Planet Spring/Summer Classes 2025
DESCRIPTION:5/29 – Thursday\, 10:30 am – 12:00 pm: Smartphones\,\n6/5 – Thursday\, 10:30 am – 12:00 pm: Messaging Apps\,\n6/12 – Thursday\, 10:30 am – 12:00 pm: Video Chat\,\n6/19 – Thursday\, 10:30 am – 12:00 pm: Intro to Managing Your Privacy\,\n6/26 – Thursday\, 10:30 am – 12:00 pm: Protecting Your Personal Information Online
URL:https://tech4tomorrow.org/event/converse-home-senior-planet-spring-summer-classes-2025-2/2026-01-15/
ATTACH;FMTTYPE=image/jpeg:https://tech4tomorrow.org/wp-content/uploads/2025/05/converseHome.jpg
END:VEVENT
BEGIN:VEVENT
DTSTART;TZID=UTC:20260115T164500
DTEND;TZID=UTC:20260115T181500
DTSTAMP:20260423T211413
CREATED:20251117T144327Z
LAST-MODIFIED:20251117T150633Z
UID:10000509-1768495500-1768500900@tech4tomorrow.org
SUMMARY:BPU Thursdays Q1 2026
DESCRIPTION:Classes are available through the Family Room and Burlington Parent University\, open to the public. Come in to learn about the following subjects below! \nAddress: 20 Allen Street\, Burlington VT \nClass Time: 4:45pm – 6:15pm \nClasses labeled as Direct Tech Assistance are for periods where a member from Technology for Tomorrow will directly help with any questions or concerns on technology. \n\n\n\n\n\n\n\n1\n1/8/2025\nDirect Tech Assistance\n\n\n2\n1/15/2025\nOnline Scam Prevention\n\n\n3\n1/22/2025\nDirect Tech Assistance & Event Help\n\n\n4\n1/29/2025\nFamily Internet Safety\n\n\n5\n2/5/2025\nFamily internet Safety\n\n\n6\n2/12/2025\nDirect Tech Assistance\n\n\n7\n3/5/2025\nGoogle Translate: Computer\n\n\n8\n3/12/2025\nDirect Tech Assistance\n\n\n9\n3/26/2025\nGoogle Translate: Phone
URL:https://tech4tomorrow.org/event/bpu-thursdays-q1-2026/2026-01-15/
ATTACH;FMTTYPE=image/png:https://tech4tomorrow.org/wp-content/uploads/2025/10/bpuNewSeriesFR.png
END:VEVENT
END:VCALENDAR