BEGIN:VCALENDAR
VERSION:2.0
PRODID:-//Technology 4 Tomorrow - ECPv6.15.20//NONSGML v1.0//EN
CALSCALE:GREGORIAN
METHOD:PUBLISH
X-WR-CALNAME:Technology 4 Tomorrow
X-ORIGINAL-URL:https://tech4tomorrow.org
X-WR-CALDESC:Events for Technology 4 Tomorrow
REFRESH-INTERVAL;VALUE=DURATION:PT1H
X-Robots-Tag:noindex
X-PUBLISHED-TTL:PT1H
BEGIN:VTIMEZONE
TZID:UTC
BEGIN:STANDARD
TZOFFSETFROM:+0000
TZOFFSETTO:+0000
TZNAME:UTC
DTSTART:20250101T000000
END:STANDARD
END:VTIMEZONE
BEGIN:VEVENT
DTSTART;TZID=UTC:20260116T130000
DTEND;TZID=UTC:20260116T143000
DTSTAMP:20260423T211206
CREATED:20251110T133632Z
LAST-MODIFIED:20251110T133658Z
UID:10000506-1768568400-1768573800@tech4tomorrow.org
SUMMARY:Comcast/SBPL Public Series Winter '26
DESCRIPTION:These classes are available to the public. Walk-ins are accepted at the South Burlington Public Library. Link will be updated where you can sign up online soon: TBD \nJanuary 16th: Children’s Internet Safety\nTime: 1pm – 2:30pm\nWhere: Digital Labs in South Burlington Public Library\nLearn about what children are going through every day on the internet\, what they have access to\, and the tools you have available as a parent to help prevent the many scams and ploys out on the internet. \nFebruary 27th: Resume Building with Google Docs\nTime: 1pm – 2:30pm\nWhere: Digital Labs in South Burlington Public Library\nLearn how to build a resume using Google Docs\, following a live demonstration to make a resume. Learn about the many tips & tricks that go into making a good resume
URL:https://tech4tomorrow.org/event/comcast-sbpl-public-series-winter-26/2026-01-16/
ATTACH;FMTTYPE=image/jpeg:https://tech4tomorrow.org/wp-content/uploads/2025/11/sbplLogo.jpg
END:VEVENT
END:VCALENDAR