BEGIN:VCALENDAR
VERSION:2.0
PRODID:-//Technology 4 Tomorrow - ECPv6.15.20//NONSGML v1.0//EN
CALSCALE:GREGORIAN
METHOD:PUBLISH
X-WR-CALNAME:Technology 4 Tomorrow
X-ORIGINAL-URL:https://tech4tomorrow.org
X-WR-CALDESC:Events for Technology 4 Tomorrow
REFRESH-INTERVAL;VALUE=DURATION:PT1H
X-Robots-Tag:noindex
X-PUBLISHED-TTL:PT1H
BEGIN:VTIMEZONE
TZID:UTC
BEGIN:STANDARD
TZOFFSETFROM:+0000
TZOFFSETTO:+0000
TZNAME:UTC
DTSTART:20250101T000000
END:STANDARD
END:VTIMEZONE
BEGIN:VEVENT
DTSTART;TZID=UTC:20260610T100000
DTEND;TZID=UTC:20260610T120000
DTSTAMP:20260423T211205
CREATED:20260209T140105Z
LAST-MODIFIED:20260209T140105Z
UID:10000676-1781085600-1781092800@tech4tomorrow.org
SUMMARY:A4TD Mature Worker Workforce Program 2026 Cohorts 6-7
DESCRIPTION:Cohort #\nCohort 1\nCohort 2\nCohort 3\nCohort 4\nCohort 5\nCohort 6\nCohort 7\n\n\n\n\n\nClass Level\nBeginner\nBeginner\nIntermediate\nBeginner\nBeginner\nBeginner\nIntermediate\n\n\n\n\n\nStart & End Dates\nFeb. 3rd – Mar. 12th\nFeb. 4th – Mar. 13th\nMar. 24th – Apr. 30th\nMar. 25th – May. 1st\nMar. 25th – May. 1st\nMay. 12th – Jun. 18th\nMay. 13th – Jun. 19th\n\n\n\n\n\nClass Times\n10:00 AM – 12:00 PM\n10:00 AM – 12:00 PM\n10:00 AM – 12:00 PM\n10:00 AM – 12:00 PM\n12:15 PM – 2:15 PM\n10:00 AM – 12:00 PM\n10:00 AM – 12:00 PM\n\n\n\n\n\n# of Participants\n10 Participants\n10 Participants\n10 Participants\n11 Participants\n10 Participants\n11 Participants\n10 Participants\n\n\nClass #\nClass Topic – Basic Literacy\nClass Topic – Intermediate Literacy\nWeek Days\nTuesday & Thursday\nWednesday and Friday\nTuesday & Thursday\nWednesday and Friday\nWednesday and Friday\nTuesday & Thursday\nWednesday and Friday\n\n\n1\nIntroduction to the Computer\nIntroduction to Search Engines & AI\nWeek 1\n2/3/2026\n2/6/2026\n3/24/2026\n3/25/2026\n3/25/2026\n5/12/2026\n5/13/2026\n\n\n2\nIntroduction to Zoom Meetings\nMicrosoft OneDrive\nWeek 1\n2/5/2026\n2/11/2026\n3/26/2026\n3/27/2026\n3/27/2026\n5/14/2026\n5/15/2026\n\n\n3\nUnderstanding the Smartphone\nMicrosoft PowerPoint\nWeek 2\n2/10/2026\n2/13/2026\n3/31/2026\n4/1/2026\n4/1/2026\n5/19/2026\n5/20/2026\n\n\n4\nProtect Yourself from Scams\nAdvanced Microsoft Word\nWeek 2\n2/12/2026\n2/18/2026\n4/2/2026\n4/3/2026\n4/3/2026\n5/21/2026\n5/22/2026\n\n\n5\nIntroduction to AI\nAdvanced Microsoft Word Workshop\nWeek 3\n2/17/2026\n2/20/2026\n4/7/2026\n4/8/2026\n4/8/2026\n5/26/2026\n5/27/2026\n\n\n6\nOutlook\nAdvanced Microsoft Excel\nWeek 3\n2/19/2026\n2/25/2026\n4/9/2026\n4/10/2026\n4/10/2026\n5/28/2026\n5/29/2026\n\n\n7\nWord\nAdvanced Microsoft Excel Workshop\nWeek 4\n2/24/2026\n2/27/2026\n4/14/2026\n4/15/2026\n4/15/2026\n6/2/2026\n6/3/2026\n\n\n8\nExcel\nAdvanced Microsoft Outlook\nWeek 4\n2/26/2026\n3/4/2026\n4/16/2026\n4/17/2026\n4/17/2026\n6/4/2026\n6/5/2026\n\n\n9\nPowerPoint\nAdvanced Microsoft Outlook Workshop\nWeek 5\n3/3/2026\n3/6/2026\n4/21/2026\n4/22/2026\n4/22/2026\n6/9/2026\n6/10/2026\n\n\n10\nMicrosoft to Google\nLinkedIn\nWeek 5\n3/5/2026\n3/11/2026\n4/23/2026\n4/24/2026\n4/24/2026\n6/11/2026\n6/12/2026\n\n\n11\nCareer Workshops\nCareer Workshop\nWeek 6\n3/10/2026\n3/13/2026\n4/28/2026\n4/29/2026\n4/29/2026\n6/16/2026\n6/17/2026\n\n\n12\nCareer Workshops\nCareer Workshop\nWeek 6\n3/12/2026\n3/18/2026\n4/30/2026\n5/1/2026\n5/1/2026\n6/18/2026\n6/19/2026
URL:https://tech4tomorrow.org/event/a4td-mature-worker-workforce-program-2026-cohorts-6-7/2026-06-10/
ATTACH;FMTTYPE=image/png:https://tech4tomorrow.org/wp-content/uploads/2026/02/a4tdCohorts.png
END:VEVENT
BEGIN:VEVENT
DTSTART;TZID=UTC:20260610T120000
DTEND;TZID=UTC:20260610T133000
DTSTAMP:20260423T211205
CREATED:20251223T170652Z
LAST-MODIFIED:20251223T170652Z
UID:10000529-1781092800-1781098200@tech4tomorrow.org
SUMMARY:AARP Tech Thursdays 2026
DESCRIPTION:Class #\nAARP Theme\nTopic\nTech Educator\nAARP Staff\nAARP Vol\nDate\nTime\nDescription\n\n\n1\nWork and Jobs\nLinkedIn\nMaliki LaForce\nErin\n\n1/8/2026\n12-1:30 pm\nLinkedIn is a helpful tool that allows anyone to find and apply for jobs quickly. Utilizing this form of social media has become crucial in today’s job market\n\n\n2\nWork and Jobs\nZoom\nMaliki LaForce\nErin\n\n1/22/2026\n12-1:30 pm\nZoom is a common communication tool used to help connect globally. Learn what all of the functions of Zoom are and what you can do while in a Zoom Meeting as a Zoom participant.\n\n\n3\nWork and Jobs\nJob Search Engines\nMaliki LaForce\nErin\n\n2/5/2026\n12-1:30 pm\nJob Boards have begun to appear online and are one of the best ways to find jobs in your community. Learn how to utilize them for your benefit\, including Indeed\, Monster\, and more.\n\n\n4\nWork and Jobs\nBuilding a Resume: An Intro to Microsoft Word*\nMaliki LaForce\nErin\n\n2/19/2026\n12-1:30 pm\nMicrosoft Word is a text-based software that allows us to make a resume. Learn how to use Microsoft Word in this way alongside Resume tips and tricks from tech professionals\n\n\n5\nSavings\nVenmo**\nMaliki LaForce\nErin\n\n3/5/2026\n12-1:30 pm\nVenmo is a Peer-to-Peer service that allows us to send money and track our transactions just from an app on our phone. Learn how to use it\, send others money\, and how to see your transactions\n\n\n6\nSavings\nBudgeting your Money with Microsoft Excel*\nDamien Royer\nErin\n\n3/19/2026\n12-1:30 pm\nMicrosoft Excel is a spreadsheet software often used for budgeting. Learn how to use Microsoft Excel in this fashion\, learning how to make math automatic\, create a spreadsheet\, and easily budget\n\n\n7\nFraud Prevention\nOnline Scam Prevention*\nMaliki LaForce\nErin\n\n4/2/2026\n12-1:30 pm\nScams are everywhere\, especially online. In this class\, we’ll showcase many examples of online scams\, breaking them down\, and how to avoid them when on the internet\n\n\n8\nFraud Prevention\nPhone Scam Prevention**\nMaliki LaForce\nErin\n\n4/16/2026\n12-1:30 pm\nScams are everywhere\, especially over the phone. In this class\, we’ll talk about the many phone scams there are\, the commonalities between all scams\, and how to identify a scammer\n\n\n9\nFraud Prevention\nFundamentals of Internet Privacy\nMaliki LaForce\nErin\n\n5/14/2026\n12-1:30 pm\nWhat we do online is always being tracked; In this class\, you’ll learn smart ways to prevent online tracking and how it occurs\, including cookies\, browsers for privacy\, and VPNs\n\n\n10\nFraud Prevention\nScams & AI: How Have Scams Evolved\nMaliki LaForce\nErin\n\n5/28/2026\n12-1:30 pm\nScams are constantly evolving\, especially with Artificial Intelligence. Learn how AI has developed scams and the best modern ways to find if something is a scam.\n\n\n11\nTravel and Fun\nIntro to Google Maps\nMaliki LaForce\nErin\n\n6/11/2026\n12-1:30 pm\nEmbark on a journey that will broaden your horizons with “Google Maps 101\,” a class presented by the non-profit education organization Technology for Tomorrow. This session will cover the fundamental features of Google Maps like navigation\, exploring your location\, and tool utilization. Elevate your understanding of GPS\, and localized service searches so you can find just where you need to go\, and anything you might need along the way! Join us on an adventure as we explore enhanced digital wayfinding!\n\n\n12\nTravel and Fun\nGoogle Maps: Using the 3D Map\nMaliki LaForce\nErin\n\n6/25/2026\n12-1:30 pm\nIn this Google Maps 102 class\, we’ll learn about the 3D map- a way to explore the world from the comfort of your home\, seeing the many sights the world has to offer\n\n\n13\nTravel and Fun\nGoogle Translate\nMaliki LaForce\nErin\n\n7/23/2026\n12-1:30 pm\nLearn how to utilize Google Translate and translate 100+ languages via text\, imagery\, documents\, or even websites! Through this class\, you’ll learn how to interact with Google Translate’s interface on the computer alongside the new technology Google is releasing constantly to innovate the translation market\n\n\n14\nTravel and Fun\nGoogle Photos\nMaliki LaForce\nErin\n\n8/20/2026\n12-1:30 pm\nThis class will cover the basics of Google Photos\, including use cases\, uploading photos and videos from different sources\, organize them using albums\, basic photo editing features\, and sharing\n\n\n15\nPhone Tech\nAndroid Phone Accessibility\nMaliki LaForce\nErin\n\n9/3/2026\n12-1:30 pm\nLearn the many settings on an Android phone that are common for most all android phones\, including how to make text bigger\, the magnifying glass\, and more\n\n\n16\nPhone Tech\niPhone Accessibility\nDamien Royer\nErin\n\n9/17/2026\n12-1:30 pm\nLearn the many settings on an iPhone that are common for most all android phones\, including how to make text bigger\, the magnifying glass\, and more\n\n\n17\nCaregiving\nMyChart**\nMaliki LaForce\nErin\n\n10/1/2026\n12-1:30 pm\n*NO LIVE DEMO* Learn about MyChart\, a nationally-recognized app that tracks your Electronic Health Record\, making it extremely easy to schedule doctor’s appointment\, get a prescription\, and more!\n\n\n18\nCaregiving\nPassword Management\nMaliki LaForce\nErin\n\n10/15/2026\n12-1:30 pm\nHaving a lot of accounts online makes it hard to track our passwords. Learn ways to manage your passwords\, including tips & tricks from tech professionals and password managers\n\n\n19\nCaregiving\nYour Digital Legacy\nMaliki LaForce\nErin\n\n11/12/2026\n12-1:30 pm\nIn this class\, you’ll learn about EverPlans & other online tools for the computer to help store everything your family & will executors will need in one spot. You’ll learn how to make an EverPlans account\, what information you may need to collect beforehand\, cloud storage and how it can help you\, and other forms of tech like Password Managers\, TrustVault\, Dead Man’s Switch\, and Legacy Tools provided by popular organizations like Google and Apple.\n\n\n20\nCaregiving\nFitness & Health Applications**\nMaliki LaForce\nErin\n\n12/10/2026\n12-1:30 pm\nLearn about many of the fitness apps available to you on both Android and iPhone! This class uses MyFitnessPal\, an app that has stayed consistently popular in the health scene\, as a way to teach what these types of applications can do! Learn how to track your eating habits\, exercise routine\, weight loss\, and much more!
URL:https://tech4tomorrow.org/event/aarp-tech-thursdays-2026/2026-06-10/
ATTACH;FMTTYPE=image/png:https://tech4tomorrow.org/wp-content/uploads/2024/06/AARP-1-e1725468803505.png
END:VEVENT
END:VCALENDAR