BEGIN:VCALENDAR
VERSION:2.0
PRODID:-//Technology 4 Tomorrow - ECPv6.15.20//NONSGML v1.0//EN
CALSCALE:GREGORIAN
METHOD:PUBLISH
X-WR-CALNAME:Technology 4 Tomorrow
X-ORIGINAL-URL:https://tech4tomorrow.org
X-WR-CALDESC:Events for Technology 4 Tomorrow
REFRESH-INTERVAL;VALUE=DURATION:PT1H
X-Robots-Tag:noindex
X-PUBLISHED-TTL:PT1H
BEGIN:VTIMEZONE
TZID:UTC
BEGIN:STANDARD
TZOFFSETFROM:+0000
TZOFFSETTO:+0000
TZNAME:UTC
DTSTART:20230101T000000
END:STANDARD
END:VTIMEZONE
BEGIN:VEVENT
DTSTART;TZID=UTC:20241008T100000
DTEND;TZID=UTC:20241008T120000
DTSTAMP:20260425T122503
CREATED:20241011T122821Z
LAST-MODIFIED:20250619T160847Z
UID:10000009-1728381600-1728388800@tech4tomorrow.org
SUMMARY:A4TD Advanced Continuation Series 2024
DESCRIPTION:A4TD and T4T have partnered to provide advanced Microsoft Office classes to individuals who had previously gone through the Mature Worker Workforce Program. A total of 24 classes are being provided to these individuals seeking higher Office Digital Literacy. \n\n\n\n\n\n\n\n\nClass Topic\n\nCohort 1\nCohort 2\n\n\n\n\n(10 participants)\n(10 participants)\n\n\n\n\nMon & Wednesday\nTuesday and Thursday\n\n\nMaterial Review\nWeek 1\n9/30/2024\n10/1/2024\n\n\nMicrosoft OneDrive\nWeek 1\n10/2/2024\n10/3/2024\n\n\nAdv. Microsoft Outlook\nWeek 2\n10/7/2024\n10/8/2024\n\n\nOutlook Workshop\nWeek 2\n10/9/2024\n10/10/2024\n\n\nAdv. Microsoft Word\nWeek 3\n10/14/2024\n10/15/2024\n\n\nWord Workshop\nWeek 3\n10/16/2024\n10/17/2024\n\n\nAdv. Microsoft Powerpoint\nWeek 4\n10/21/2024\n10/22/2024\n\n\nPowerpoint Workshop\nWeek 4\n10/23/2024\n10/24/2024\n\n\nAdv. Microsoft Excel\nWeek 5\n10/28/2024\n10/29/2024\n\n\nExcel Workshop\nWeek 5\n10/30/2024\n10/31/2024\n\n\nCareer Workshop 1\nWeek 6\n11/4/2024\n11/5/2024\n\n\nCareer Workshop 2\nWeek 6\n11/6/2024\n11/7/2024
URL:https://tech4tomorrow.org/event/a4td-advanced-continuation-series-2024/2024-10-08/
ATTACH;FMTTYPE=image/png:https://tech4tomorrow.org/wp-content/uploads/2024/08/a4td_t4tweb2024.png
END:VEVENT
BEGIN:VEVENT
DTSTART;TZID=UTC:20241007T143000
DTEND;TZID=UTC:20241007T160000
DTSTAMP:20260425T122503
CREATED:20241011T123923Z
LAST-MODIFIED:20250711T141729Z
UID:10000058-1728311400-1728316800@tech4tomorrow.org
SUMMARY:CVCOA TechSpark Ignite 2024 Series
DESCRIPTION:T4T is proud to announce a 5-class Ignite series provided by Microsoft TechSpark to Central Vermont Council on Aging. These classes focus on digital security and keeping everyone safe on the internet. \nTopics Include: \n\nProtection from Scams – 10/7\nScams & AI – 10/14\nInternet Privacy – 10/21\nPassword Management – 10/28\nTips & Strategies for a Safer Shopping Experience – 11/4
URL:https://tech4tomorrow.org/event/cvcoa-techspark-ignite-2024-series/2024-10-07/
ATTACH;FMTTYPE=image/png:https://tech4tomorrow.org/wp-content/uploads/2024/08/cvcoa_t4tweb2024.png
END:VEVENT
BEGIN:VEVENT
DTSTART;TZID=UTC:20241007T100000
DTEND;TZID=UTC:20241007T120000
DTSTAMP:20260425T122503
CREATED:20241011T122821Z
LAST-MODIFIED:20250619T160847Z
UID:10000008-1728295200-1728302400@tech4tomorrow.org
SUMMARY:A4TD Advanced Continuation Series 2024
DESCRIPTION:A4TD and T4T have partnered to provide advanced Microsoft Office classes to individuals who had previously gone through the Mature Worker Workforce Program. A total of 24 classes are being provided to these individuals seeking higher Office Digital Literacy. \n\n\n\n\n\n\n\n\nClass Topic\n\nCohort 1\nCohort 2\n\n\n\n\n(10 participants)\n(10 participants)\n\n\n\n\nMon & Wednesday\nTuesday and Thursday\n\n\nMaterial Review\nWeek 1\n9/30/2024\n10/1/2024\n\n\nMicrosoft OneDrive\nWeek 1\n10/2/2024\n10/3/2024\n\n\nAdv. Microsoft Outlook\nWeek 2\n10/7/2024\n10/8/2024\n\n\nOutlook Workshop\nWeek 2\n10/9/2024\n10/10/2024\n\n\nAdv. Microsoft Word\nWeek 3\n10/14/2024\n10/15/2024\n\n\nWord Workshop\nWeek 3\n10/16/2024\n10/17/2024\n\n\nAdv. Microsoft Powerpoint\nWeek 4\n10/21/2024\n10/22/2024\n\n\nPowerpoint Workshop\nWeek 4\n10/23/2024\n10/24/2024\n\n\nAdv. Microsoft Excel\nWeek 5\n10/28/2024\n10/29/2024\n\n\nExcel Workshop\nWeek 5\n10/30/2024\n10/31/2024\n\n\nCareer Workshop 1\nWeek 6\n11/4/2024\n11/5/2024\n\n\nCareer Workshop 2\nWeek 6\n11/6/2024\n11/7/2024
URL:https://tech4tomorrow.org/event/a4td-advanced-continuation-series-2024/2024-10-07/
ATTACH;FMTTYPE=image/png:https://tech4tomorrow.org/wp-content/uploads/2024/08/a4td_t4tweb2024.png
END:VEVENT
BEGIN:VEVENT
DTSTART;TZID=UTC:20241004T130000
DTEND;TZID=UTC:20241004T143000
DTSTAMP:20260425T122503
CREATED:20241011T123304Z
LAST-MODIFIED:20241011T123304Z
UID:10000050-1728046800-1728052200@tech4tomorrow.org
SUMMARY:TechSpark 2024 Public Fall Series
DESCRIPTION:Due to the success of our 2024 Winter Public Series\, we are running three additional Public Series at the South Burlington Public Library\, available to the public. \nBasic Literacy Course Series\nTuesdays 1:00pm – 2:30pm EST 9/17/2024 – 11/19/2024\nSouth Burlington Public Library: Digital Lab (180 Market St\, South Burlington\, VT\, 05403)\n\nThese classes focus on basic digital literacy skills\, being best suited for those who rarely utilize a computer. Topics include:\n\n\nIntro to Computers\nUnderstanding the Smartphone\nFundamentals of Internet Privacy\nIntroduction to Microsoft Edge\nIntro to Search Engines\nIntroduction to Zoom Meetings\nProtect Yourself from Scams: Essential Tips and Tricks for Staying Safe Online\nLearn Microsoft OneDrive\nLearn Microsoft Outlook\nLearn Microsoft Word\n\n\n\n \nAdvanced Literacy Course Series\n\nTuesdays 3:00pm – 4:30pm EST 9/17/2024 – 11/19/2024\nSouth Burlington Public Library: Digital Lab (180 Market St\, South Burlington\, VT\, 05403)\nThese classes focus on advanced digital literacy skills\, being best suited for those who utilize the Microsoft Suite but want to learn more of the advanced features. These classes will involve practice periods every other class where we will further discuss the topic from the previous week. Topics include:\n\n\nAdvanced Microsoft Outlook: How to utilize the Calendar and Tasks\nAdvanced Microsoft Outlook: Advanced Email Settings\nAdvanced Microsoft Word Features\nMicrosoft Excel Basics\nMicrosoft Excel Advanced Features\n\n\n\n \nAI Literacy Course Series\n\nFridays 1:00pm – 2:30pm EST 9/20/2024 – 11/22/2024\nSouth Burlington Public Library: Community Room (180 Market St\, South Burlington\, VT\, 05403)\n\nThese classes focus on teaching what Artificial Intelligence is\, how it has affected society\, and how you can utilize AI in your daily life ethically. Topics include: \n\nIntroducing AI\nGetting Started with Bing Chat\nAI Chatbots: Your Digital Helpers\nGenerative AI: Imagery and How it Works\nAI Extensions: Making Programs work For You\nExploring AI in Advertisements\nSocial Media and AI: What you Need to Know\nScams & AI: Deepfakes\, Chatbot Challenges\, and More\nThe Future of AI: What Lies Ahead Hands On Workshop\nEthics of AI
URL:https://tech4tomorrow.org/event/techspark-2024-public-fall-series-2/2024-10-04/
ATTACH;FMTTYPE=image/png:https://tech4tomorrow.org/wp-content/uploads/2024/06/Microsoft-e1725469553286.png
END:VEVENT
BEGIN:VEVENT
DTSTART;TZID=UTC:20241003T100000
DTEND;TZID=UTC:20241003T120000
DTSTAMP:20260425T122503
CREATED:20241011T122821Z
LAST-MODIFIED:20250619T160847Z
UID:10000007-1727949600-1727956800@tech4tomorrow.org
SUMMARY:A4TD Advanced Continuation Series 2024
DESCRIPTION:A4TD and T4T have partnered to provide advanced Microsoft Office classes to individuals who had previously gone through the Mature Worker Workforce Program. A total of 24 classes are being provided to these individuals seeking higher Office Digital Literacy. \n\n\n\n\n\n\n\n\nClass Topic\n\nCohort 1\nCohort 2\n\n\n\n\n(10 participants)\n(10 participants)\n\n\n\n\nMon & Wednesday\nTuesday and Thursday\n\n\nMaterial Review\nWeek 1\n9/30/2024\n10/1/2024\n\n\nMicrosoft OneDrive\nWeek 1\n10/2/2024\n10/3/2024\n\n\nAdv. Microsoft Outlook\nWeek 2\n10/7/2024\n10/8/2024\n\n\nOutlook Workshop\nWeek 2\n10/9/2024\n10/10/2024\n\n\nAdv. Microsoft Word\nWeek 3\n10/14/2024\n10/15/2024\n\n\nWord Workshop\nWeek 3\n10/16/2024\n10/17/2024\n\n\nAdv. Microsoft Powerpoint\nWeek 4\n10/21/2024\n10/22/2024\n\n\nPowerpoint Workshop\nWeek 4\n10/23/2024\n10/24/2024\n\n\nAdv. Microsoft Excel\nWeek 5\n10/28/2024\n10/29/2024\n\n\nExcel Workshop\nWeek 5\n10/30/2024\n10/31/2024\n\n\nCareer Workshop 1\nWeek 6\n11/4/2024\n11/5/2024\n\n\nCareer Workshop 2\nWeek 6\n11/6/2024\n11/7/2024
URL:https://tech4tomorrow.org/event/a4td-advanced-continuation-series-2024/2024-10-03/
ATTACH;FMTTYPE=image/png:https://tech4tomorrow.org/wp-content/uploads/2024/08/a4td_t4tweb2024.png
END:VEVENT
BEGIN:VEVENT
DTSTART;TZID=UTC:20241002T100000
DTEND;TZID=UTC:20241002T120000
DTSTAMP:20260425T122503
CREATED:20241011T122821Z
LAST-MODIFIED:20250619T160847Z
UID:10000006-1727863200-1727870400@tech4tomorrow.org
SUMMARY:A4TD Advanced Continuation Series 2024
DESCRIPTION:A4TD and T4T have partnered to provide advanced Microsoft Office classes to individuals who had previously gone through the Mature Worker Workforce Program. A total of 24 classes are being provided to these individuals seeking higher Office Digital Literacy. \n\n\n\n\n\n\n\n\nClass Topic\n\nCohort 1\nCohort 2\n\n\n\n\n(10 participants)\n(10 participants)\n\n\n\n\nMon & Wednesday\nTuesday and Thursday\n\n\nMaterial Review\nWeek 1\n9/30/2024\n10/1/2024\n\n\nMicrosoft OneDrive\nWeek 1\n10/2/2024\n10/3/2024\n\n\nAdv. Microsoft Outlook\nWeek 2\n10/7/2024\n10/8/2024\n\n\nOutlook Workshop\nWeek 2\n10/9/2024\n10/10/2024\n\n\nAdv. Microsoft Word\nWeek 3\n10/14/2024\n10/15/2024\n\n\nWord Workshop\nWeek 3\n10/16/2024\n10/17/2024\n\n\nAdv. Microsoft Powerpoint\nWeek 4\n10/21/2024\n10/22/2024\n\n\nPowerpoint Workshop\nWeek 4\n10/23/2024\n10/24/2024\n\n\nAdv. Microsoft Excel\nWeek 5\n10/28/2024\n10/29/2024\n\n\nExcel Workshop\nWeek 5\n10/30/2024\n10/31/2024\n\n\nCareer Workshop 1\nWeek 6\n11/4/2024\n11/5/2024\n\n\nCareer Workshop 2\nWeek 6\n11/6/2024\n11/7/2024
URL:https://tech4tomorrow.org/event/a4td-advanced-continuation-series-2024/2024-10-02/
ATTACH;FMTTYPE=image/png:https://tech4tomorrow.org/wp-content/uploads/2024/08/a4td_t4tweb2024.png
END:VEVENT
BEGIN:VEVENT
DTSTART;TZID=UTC:20241001T130000
DTEND;TZID=UTC:20241001T163000
DTSTAMP:20260425T122503
CREATED:20241011T123221Z
LAST-MODIFIED:20250619T160752Z
UID:10000030-1727787600-1727800200@tech4tomorrow.org
SUMMARY:TechSpark 2024 Public Fall Series
DESCRIPTION:Due to the success of our 2024 Winter Public Series\, we are running three additional Public Series at the South Burlington Public Library\, available to the public. \nBasic Literacy Course Series\nTuesdays 1:00pm – 2:30pm EST 9/17/2024 – 11/19/2024\nSouth Burlington Public Library: Digital Lab (180 Market St\, South Burlington\, VT\, 05403)\n\nThese classes focus on basic digital literacy skills\, being best suited for those who rarely utilize a computer. Topics include:\n\n\nIntro to Computers\nUnderstanding the Smartphone\nFundamentals of Internet Privacy\nIntroduction to Microsoft Edge\nIntro to Search Engines\nIntroduction to Zoom Meetings\nProtect Yourself from Scams: Essential Tips and Tricks for Staying Safe Online\nLearn Microsoft OneDrive\nLearn Microsoft Outlook\nLearn Microsoft Word\n\n\n\n \nAdvanced Literacy Course Series\n\nTuesdays 3:00pm – 4:30pm EST 9/17/2024 – 11/19/2024\nSouth Burlington Public Library: Digital Lab (180 Market St\, South Burlington\, VT\, 05403)\nThese classes focus on advanced digital literacy skills\, being best suited for those who utilize the Microsoft Suite but want to learn more of the advanced features. These classes will involve practice periods every other class where we will further discuss the topic from the previous week. Topics include:\n\n\nAdvanced Microsoft Outlook: How to utilize the Calendar and Tasks\nAdvanced Microsoft Outlook: Advanced Email Settings\nAdvanced Microsoft Word Features\nMicrosoft Excel Basics\nMicrosoft Excel Advanced Features\n\n\n\n \nAI Literacy Course Series\n\nFridays 1:00pm – 2:30pm EST 9/20/2024 – 11/22/2024\nSouth Burlington Public Library: Community Room (180 Market St\, South Burlington\, VT\, 05403)\n\nThese classes focus on teaching what Artificial Intelligence is\, how it has affected society\, and how you can utilize AI in your daily life ethically. Topics include: \n\nIntroducing AI\nGetting Started with Bing Chat\nAI Chatbots: Your Digital Helpers\nGenerative AI: Imagery and How it Works\nAI Extensions: Making Programs work For You\nExploring AI in Advertisements\nSocial Media and AI: What you Need to Know\nScams & AI: Deepfakes\, Chatbot Challenges\, and More\nThe Future of AI: What Lies Ahead Hands On Workshop\nEthics of AI
URL:https://tech4tomorrow.org/event/techspark-2024-public-fall-series/2024-10-01/
ATTACH;FMTTYPE=image/png:https://tech4tomorrow.org/wp-content/uploads/2024/06/Microsoft-e1725469553286.png
END:VEVENT
BEGIN:VEVENT
DTSTART;TZID=UTC:20241001T100000
DTEND;TZID=UTC:20241001T120000
DTSTAMP:20260425T122503
CREATED:20241011T122821Z
LAST-MODIFIED:20250619T160847Z
UID:10000005-1727776800-1727784000@tech4tomorrow.org
SUMMARY:A4TD Advanced Continuation Series 2024
DESCRIPTION:A4TD and T4T have partnered to provide advanced Microsoft Office classes to individuals who had previously gone through the Mature Worker Workforce Program. A total of 24 classes are being provided to these individuals seeking higher Office Digital Literacy. \n\n\n\n\n\n\n\n\nClass Topic\n\nCohort 1\nCohort 2\n\n\n\n\n(10 participants)\n(10 participants)\n\n\n\n\nMon & Wednesday\nTuesday and Thursday\n\n\nMaterial Review\nWeek 1\n9/30/2024\n10/1/2024\n\n\nMicrosoft OneDrive\nWeek 1\n10/2/2024\n10/3/2024\n\n\nAdv. Microsoft Outlook\nWeek 2\n10/7/2024\n10/8/2024\n\n\nOutlook Workshop\nWeek 2\n10/9/2024\n10/10/2024\n\n\nAdv. Microsoft Word\nWeek 3\n10/14/2024\n10/15/2024\n\n\nWord Workshop\nWeek 3\n10/16/2024\n10/17/2024\n\n\nAdv. Microsoft Powerpoint\nWeek 4\n10/21/2024\n10/22/2024\n\n\nPowerpoint Workshop\nWeek 4\n10/23/2024\n10/24/2024\n\n\nAdv. Microsoft Excel\nWeek 5\n10/28/2024\n10/29/2024\n\n\nExcel Workshop\nWeek 5\n10/30/2024\n10/31/2024\n\n\nCareer Workshop 1\nWeek 6\n11/4/2024\n11/5/2024\n\n\nCareer Workshop 2\nWeek 6\n11/6/2024\n11/7/2024
URL:https://tech4tomorrow.org/event/a4td-advanced-continuation-series-2024/2024-10-01/
ATTACH;FMTTYPE=image/png:https://tech4tomorrow.org/wp-content/uploads/2024/08/a4td_t4tweb2024.png
END:VEVENT
BEGIN:VEVENT
DTSTART;TZID=UTC:20240930T100000
DTEND;TZID=UTC:20240930T120000
DTSTAMP:20260425T122503
CREATED:20241011T122821Z
LAST-MODIFIED:20250619T160847Z
UID:10000004-1727690400-1727697600@tech4tomorrow.org
SUMMARY:A4TD Advanced Continuation Series 2024
DESCRIPTION:A4TD and T4T have partnered to provide advanced Microsoft Office classes to individuals who had previously gone through the Mature Worker Workforce Program. A total of 24 classes are being provided to these individuals seeking higher Office Digital Literacy. \n\n\n\n\n\n\n\n\nClass Topic\n\nCohort 1\nCohort 2\n\n\n\n\n(10 participants)\n(10 participants)\n\n\n\n\nMon & Wednesday\nTuesday and Thursday\n\n\nMaterial Review\nWeek 1\n9/30/2024\n10/1/2024\n\n\nMicrosoft OneDrive\nWeek 1\n10/2/2024\n10/3/2024\n\n\nAdv. Microsoft Outlook\nWeek 2\n10/7/2024\n10/8/2024\n\n\nOutlook Workshop\nWeek 2\n10/9/2024\n10/10/2024\n\n\nAdv. Microsoft Word\nWeek 3\n10/14/2024\n10/15/2024\n\n\nWord Workshop\nWeek 3\n10/16/2024\n10/17/2024\n\n\nAdv. Microsoft Powerpoint\nWeek 4\n10/21/2024\n10/22/2024\n\n\nPowerpoint Workshop\nWeek 4\n10/23/2024\n10/24/2024\n\n\nAdv. Microsoft Excel\nWeek 5\n10/28/2024\n10/29/2024\n\n\nExcel Workshop\nWeek 5\n10/30/2024\n10/31/2024\n\n\nCareer Workshop 1\nWeek 6\n11/4/2024\n11/5/2024\n\n\nCareer Workshop 2\nWeek 6\n11/6/2024\n11/7/2024
URL:https://tech4tomorrow.org/event/a4td-advanced-continuation-series-2024/2024-09-30/
ATTACH;FMTTYPE=image/png:https://tech4tomorrow.org/wp-content/uploads/2024/08/a4td_t4tweb2024.png
END:VEVENT
BEGIN:VEVENT
DTSTART;TZID=UTC:20240927T130000
DTEND;TZID=UTC:20240927T143000
DTSTAMP:20260425T122503
CREATED:20241011T123304Z
LAST-MODIFIED:20241011T123304Z
UID:10000049-1727442000-1727447400@tech4tomorrow.org
SUMMARY:TechSpark 2024 Public Fall Series
DESCRIPTION:Due to the success of our 2024 Winter Public Series\, we are running three additional Public Series at the South Burlington Public Library\, available to the public. \nBasic Literacy Course Series\nTuesdays 1:00pm – 2:30pm EST 9/17/2024 – 11/19/2024\nSouth Burlington Public Library: Digital Lab (180 Market St\, South Burlington\, VT\, 05403)\n\nThese classes focus on basic digital literacy skills\, being best suited for those who rarely utilize a computer. Topics include:\n\n\nIntro to Computers\nUnderstanding the Smartphone\nFundamentals of Internet Privacy\nIntroduction to Microsoft Edge\nIntro to Search Engines\nIntroduction to Zoom Meetings\nProtect Yourself from Scams: Essential Tips and Tricks for Staying Safe Online\nLearn Microsoft OneDrive\nLearn Microsoft Outlook\nLearn Microsoft Word\n\n\n\n \nAdvanced Literacy Course Series\n\nTuesdays 3:00pm – 4:30pm EST 9/17/2024 – 11/19/2024\nSouth Burlington Public Library: Digital Lab (180 Market St\, South Burlington\, VT\, 05403)\nThese classes focus on advanced digital literacy skills\, being best suited for those who utilize the Microsoft Suite but want to learn more of the advanced features. These classes will involve practice periods every other class where we will further discuss the topic from the previous week. Topics include:\n\n\nAdvanced Microsoft Outlook: How to utilize the Calendar and Tasks\nAdvanced Microsoft Outlook: Advanced Email Settings\nAdvanced Microsoft Word Features\nMicrosoft Excel Basics\nMicrosoft Excel Advanced Features\n\n\n\n \nAI Literacy Course Series\n\nFridays 1:00pm – 2:30pm EST 9/20/2024 – 11/22/2024\nSouth Burlington Public Library: Community Room (180 Market St\, South Burlington\, VT\, 05403)\n\nThese classes focus on teaching what Artificial Intelligence is\, how it has affected society\, and how you can utilize AI in your daily life ethically. Topics include: \n\nIntroducing AI\nGetting Started with Bing Chat\nAI Chatbots: Your Digital Helpers\nGenerative AI: Imagery and How it Works\nAI Extensions: Making Programs work For You\nExploring AI in Advertisements\nSocial Media and AI: What you Need to Know\nScams & AI: Deepfakes\, Chatbot Challenges\, and More\nThe Future of AI: What Lies Ahead Hands On Workshop\nEthics of AI
URL:https://tech4tomorrow.org/event/techspark-2024-public-fall-series-2/2024-09-27/
ATTACH;FMTTYPE=image/png:https://tech4tomorrow.org/wp-content/uploads/2024/06/Microsoft-e1725469553286.png
END:VEVENT
BEGIN:VEVENT
DTSTART;TZID=UTC:20240924T130000
DTEND;TZID=UTC:20240924T163000
DTSTAMP:20260425T122503
CREATED:20241011T123221Z
LAST-MODIFIED:20250619T160752Z
UID:10000029-1727182800-1727195400@tech4tomorrow.org
SUMMARY:TechSpark 2024 Public Fall Series
DESCRIPTION:Due to the success of our 2024 Winter Public Series\, we are running three additional Public Series at the South Burlington Public Library\, available to the public. \nBasic Literacy Course Series\nTuesdays 1:00pm – 2:30pm EST 9/17/2024 – 11/19/2024\nSouth Burlington Public Library: Digital Lab (180 Market St\, South Burlington\, VT\, 05403)\n\nThese classes focus on basic digital literacy skills\, being best suited for those who rarely utilize a computer. Topics include:\n\n\nIntro to Computers\nUnderstanding the Smartphone\nFundamentals of Internet Privacy\nIntroduction to Microsoft Edge\nIntro to Search Engines\nIntroduction to Zoom Meetings\nProtect Yourself from Scams: Essential Tips and Tricks for Staying Safe Online\nLearn Microsoft OneDrive\nLearn Microsoft Outlook\nLearn Microsoft Word\n\n\n\n \nAdvanced Literacy Course Series\n\nTuesdays 3:00pm – 4:30pm EST 9/17/2024 – 11/19/2024\nSouth Burlington Public Library: Digital Lab (180 Market St\, South Burlington\, VT\, 05403)\nThese classes focus on advanced digital literacy skills\, being best suited for those who utilize the Microsoft Suite but want to learn more of the advanced features. These classes will involve practice periods every other class where we will further discuss the topic from the previous week. Topics include:\n\n\nAdvanced Microsoft Outlook: How to utilize the Calendar and Tasks\nAdvanced Microsoft Outlook: Advanced Email Settings\nAdvanced Microsoft Word Features\nMicrosoft Excel Basics\nMicrosoft Excel Advanced Features\n\n\n\n \nAI Literacy Course Series\n\nFridays 1:00pm – 2:30pm EST 9/20/2024 – 11/22/2024\nSouth Burlington Public Library: Community Room (180 Market St\, South Burlington\, VT\, 05403)\n\nThese classes focus on teaching what Artificial Intelligence is\, how it has affected society\, and how you can utilize AI in your daily life ethically. Topics include: \n\nIntroducing AI\nGetting Started with Bing Chat\nAI Chatbots: Your Digital Helpers\nGenerative AI: Imagery and How it Works\nAI Extensions: Making Programs work For You\nExploring AI in Advertisements\nSocial Media and AI: What you Need to Know\nScams & AI: Deepfakes\, Chatbot Challenges\, and More\nThe Future of AI: What Lies Ahead Hands On Workshop\nEthics of AI
URL:https://tech4tomorrow.org/event/techspark-2024-public-fall-series/2024-09-24/
ATTACH;FMTTYPE=image/png:https://tech4tomorrow.org/wp-content/uploads/2024/06/Microsoft-e1725469553286.png
END:VEVENT
BEGIN:VEVENT
DTSTART;TZID=UTC:20240920T130000
DTEND;TZID=UTC:20240920T143000
DTSTAMP:20260425T122503
CREATED:20241011T123304Z
LAST-MODIFIED:20241011T123304Z
UID:10000048-1726837200-1726842600@tech4tomorrow.org
SUMMARY:TechSpark 2024 Public Fall Series
DESCRIPTION:Due to the success of our 2024 Winter Public Series\, we are running three additional Public Series at the South Burlington Public Library\, available to the public. \nBasic Literacy Course Series\nTuesdays 1:00pm – 2:30pm EST 9/17/2024 – 11/19/2024\nSouth Burlington Public Library: Digital Lab (180 Market St\, South Burlington\, VT\, 05403)\n\nThese classes focus on basic digital literacy skills\, being best suited for those who rarely utilize a computer. Topics include:\n\n\nIntro to Computers\nUnderstanding the Smartphone\nFundamentals of Internet Privacy\nIntroduction to Microsoft Edge\nIntro to Search Engines\nIntroduction to Zoom Meetings\nProtect Yourself from Scams: Essential Tips and Tricks for Staying Safe Online\nLearn Microsoft OneDrive\nLearn Microsoft Outlook\nLearn Microsoft Word\n\n\n\n \nAdvanced Literacy Course Series\n\nTuesdays 3:00pm – 4:30pm EST 9/17/2024 – 11/19/2024\nSouth Burlington Public Library: Digital Lab (180 Market St\, South Burlington\, VT\, 05403)\nThese classes focus on advanced digital literacy skills\, being best suited for those who utilize the Microsoft Suite but want to learn more of the advanced features. These classes will involve practice periods every other class where we will further discuss the topic from the previous week. Topics include:\n\n\nAdvanced Microsoft Outlook: How to utilize the Calendar and Tasks\nAdvanced Microsoft Outlook: Advanced Email Settings\nAdvanced Microsoft Word Features\nMicrosoft Excel Basics\nMicrosoft Excel Advanced Features\n\n\n\n \nAI Literacy Course Series\n\nFridays 1:00pm – 2:30pm EST 9/20/2024 – 11/22/2024\nSouth Burlington Public Library: Community Room (180 Market St\, South Burlington\, VT\, 05403)\n\nThese classes focus on teaching what Artificial Intelligence is\, how it has affected society\, and how you can utilize AI in your daily life ethically. Topics include: \n\nIntroducing AI\nGetting Started with Bing Chat\nAI Chatbots: Your Digital Helpers\nGenerative AI: Imagery and How it Works\nAI Extensions: Making Programs work For You\nExploring AI in Advertisements\nSocial Media and AI: What you Need to Know\nScams & AI: Deepfakes\, Chatbot Challenges\, and More\nThe Future of AI: What Lies Ahead Hands On Workshop\nEthics of AI
URL:https://tech4tomorrow.org/event/techspark-2024-public-fall-series-2/2024-09-20/
ATTACH;FMTTYPE=image/png:https://tech4tomorrow.org/wp-content/uploads/2024/06/Microsoft-e1725469553286.png
END:VEVENT
BEGIN:VEVENT
DTSTART;TZID=UTC:20240917T130000
DTEND;TZID=UTC:20240917T163000
DTSTAMP:20260425T122503
CREATED:20241011T123221Z
LAST-MODIFIED:20250619T160752Z
UID:10000028-1726578000-1726590600@tech4tomorrow.org
SUMMARY:TechSpark 2024 Public Fall Series
DESCRIPTION:Due to the success of our 2024 Winter Public Series\, we are running three additional Public Series at the South Burlington Public Library\, available to the public. \nBasic Literacy Course Series\nTuesdays 1:00pm – 2:30pm EST 9/17/2024 – 11/19/2024\nSouth Burlington Public Library: Digital Lab (180 Market St\, South Burlington\, VT\, 05403)\n\nThese classes focus on basic digital literacy skills\, being best suited for those who rarely utilize a computer. Topics include:\n\n\nIntro to Computers\nUnderstanding the Smartphone\nFundamentals of Internet Privacy\nIntroduction to Microsoft Edge\nIntro to Search Engines\nIntroduction to Zoom Meetings\nProtect Yourself from Scams: Essential Tips and Tricks for Staying Safe Online\nLearn Microsoft OneDrive\nLearn Microsoft Outlook\nLearn Microsoft Word\n\n\n\n \nAdvanced Literacy Course Series\n\nTuesdays 3:00pm – 4:30pm EST 9/17/2024 – 11/19/2024\nSouth Burlington Public Library: Digital Lab (180 Market St\, South Burlington\, VT\, 05403)\nThese classes focus on advanced digital literacy skills\, being best suited for those who utilize the Microsoft Suite but want to learn more of the advanced features. These classes will involve practice periods every other class where we will further discuss the topic from the previous week. Topics include:\n\n\nAdvanced Microsoft Outlook: How to utilize the Calendar and Tasks\nAdvanced Microsoft Outlook: Advanced Email Settings\nAdvanced Microsoft Word Features\nMicrosoft Excel Basics\nMicrosoft Excel Advanced Features\n\n\n\n \nAI Literacy Course Series\n\nFridays 1:00pm – 2:30pm EST 9/20/2024 – 11/22/2024\nSouth Burlington Public Library: Community Room (180 Market St\, South Burlington\, VT\, 05403)\n\nThese classes focus on teaching what Artificial Intelligence is\, how it has affected society\, and how you can utilize AI in your daily life ethically. Topics include: \n\nIntroducing AI\nGetting Started with Bing Chat\nAI Chatbots: Your Digital Helpers\nGenerative AI: Imagery and How it Works\nAI Extensions: Making Programs work For You\nExploring AI in Advertisements\nSocial Media and AI: What you Need to Know\nScams & AI: Deepfakes\, Chatbot Challenges\, and More\nThe Future of AI: What Lies Ahead Hands On Workshop\nEthics of AI
URL:https://tech4tomorrow.org/event/techspark-2024-public-fall-series/2024-09-17/
ATTACH;FMTTYPE=image/png:https://tech4tomorrow.org/wp-content/uploads/2024/06/Microsoft-e1725469553286.png
END:VEVENT
BEGIN:VEVENT
DTSTART;TZID=UTC:20240831T103000
DTEND;TZID=UTC:20240831T120000
DTSTAMP:20260425T122503
CREATED:20240829T142323Z
LAST-MODIFIED:20250619T160652Z
UID:10000003-1725100200-1725105600@tech4tomorrow.org
SUMMARY:USCRI/Fletcher Free/T4T's 5-Course Swahili Series
DESCRIPTION:USCRI\, T4T\, and Burlington\, Vermont’s Fletcher Free Library have partnered up to teach 5 classes focused around digital literacy. These classes will be held from 10:30am to 12:00pm on Saturdays starting the 24th of August. These courses have an English-Swahili interpreter provided by USCRI. Classes are on the following dates\, and are open to the public: \n8/24 – Intro to Computers\n8/31 – Understanding the Smartphone\n9/7 – Intro to the Internet\n9/14 – Protect Yourself from Scams\n9/21 – Intro to Gmail
URL:https://tech4tomorrow.org/event/uscri-fletcher-free-t4ts-5-course-swahili-series/
LOCATION:Fletcher Free Library\, 235 College Street\, Burlington\, VT\, United States
END:VEVENT
END:VCALENDAR