BEGIN:VCALENDAR
VERSION:2.0
PRODID:-//Technology 4 Tomorrow - ECPv6.15.20//NONSGML v1.0//EN
CALSCALE:GREGORIAN
METHOD:PUBLISH
X-WR-CALNAME:Technology 4 Tomorrow
X-ORIGINAL-URL:https://tech4tomorrow.org
X-WR-CALDESC:Events for Technology 4 Tomorrow
REFRESH-INTERVAL;VALUE=DURATION:PT1H
X-Robots-Tag:noindex
X-PUBLISHED-TTL:PT1H
BEGIN:VTIMEZONE
TZID:UTC
BEGIN:STANDARD
TZOFFSETFROM:+0000
TZOFFSETTO:+0000
TZNAME:UTC
DTSTART:20230101T000000
END:STANDARD
END:VTIMEZONE
BEGIN:VEVENT
DTSTART;TZID=UTC:20241204T100000
DTEND;TZID=UTC:20241204T223000
DTSTAMP:20260424T133927
CREATED:20241114T184547Z
LAST-MODIFIED:20250711T142828Z
UID:10000097-1733306400-1733351400@tech4tomorrow.org
SUMMARY:CVOEO - Champlain Valley Head Start 2024 Class Series
DESCRIPTION:Champlain Valley Head Start\, a program within the Champlain Valley Office of Economic Opportunity (CVOEO)\, have partnered with Technology for Tomorrow to deliver a 5-class series on digital literacy. In this series\, we will be discussing a variety of topics\, including: \n\n11/13 – Understanding Smartphones\n11/22 – Smartphone Camera Uses Beyond Photography\n12/04 – MyChart\n12/11 – Protecting Yourself from Scams\n12/18 – Google Translate\n\nWe’re excited to have the opportunity to partner with an organization that works so closely with our community!
URL:https://tech4tomorrow.org/event/cvoeo-champlain-valley-head-start-2024-class-series/2024-12-04/
ATTACH;FMTTYPE=image/png:https://tech4tomorrow.org/wp-content/uploads/2024/06/cvoeo-1-e1725469056239.png
END:VEVENT
BEGIN:VEVENT
DTSTART;TZID=UTC:20241211T100000
DTEND;TZID=UTC:20241211T223000
DTSTAMP:20260424T133927
CREATED:20241114T184547Z
LAST-MODIFIED:20250711T142828Z
UID:10000098-1733911200-1733956200@tech4tomorrow.org
SUMMARY:CVOEO - Champlain Valley Head Start 2024 Class Series
DESCRIPTION:Champlain Valley Head Start\, a program within the Champlain Valley Office of Economic Opportunity (CVOEO)\, have partnered with Technology for Tomorrow to deliver a 5-class series on digital literacy. In this series\, we will be discussing a variety of topics\, including: \n\n11/13 – Understanding Smartphones\n11/22 – Smartphone Camera Uses Beyond Photography\n12/04 – MyChart\n12/11 – Protecting Yourself from Scams\n12/18 – Google Translate\n\nWe’re excited to have the opportunity to partner with an organization that works so closely with our community!
URL:https://tech4tomorrow.org/event/cvoeo-champlain-valley-head-start-2024-class-series/2024-12-11/
ATTACH;FMTTYPE=image/png:https://tech4tomorrow.org/wp-content/uploads/2024/06/cvoeo-1-e1725469056239.png
END:VEVENT
BEGIN:VEVENT
DTSTART;TZID=UTC:20241211T123000
DTEND;TZID=UTC:20241211T134000
DTSTAMP:20260424T133927
CREATED:20241220T173217Z
LAST-MODIFIED:20250711T142928Z
UID:10000120-1733920200-1733924400@tech4tomorrow.org
SUMMARY:Winooski High School Digital Navigator Program for Young Adults '24
DESCRIPTION:This class teaches young adults\, ranging 16-25\, how to teach their parents & others how to use Zoom. It focuses on teaching them methods and strategies to get others able to use the program. It is one class on 12/11/2024.
URL:https://tech4tomorrow.org/event/winooski-high-school-digital-navigator-program-for-young-adults-24/
ATTACH;FMTTYPE=image/webp:https://tech4tomorrow.org/wp-content/uploads/2024/12/whsLogo.webp
END:VEVENT
BEGIN:VEVENT
DTSTART;TZID=UTC:20241212T080000
DTEND;TZID=UTC:20241212T170000
DTSTAMP:20260424T133927
CREATED:20241011T124819Z
LAST-MODIFIED:20250711T143018Z
UID:10000078-1733990400-1734022800@tech4tomorrow.org
SUMMARY:AARP VT Tech Thursdays 2024
DESCRIPTION:AARP VT and Technology for Tomorrow have come together to provide AARP digital classes focused on digital literacy and the interests of members of AARP! We provide this service on the second and fourth Thursdays of each month! If you are interested in signing up for these classes\, please visit AARP’s digital events page! \n\n\n\n\n\n\n\nDate\nTime\nTopic / Title\n\n\n1/11/2024\n12 to 1.30 pm\nBuilding Confidence in the Digital Job Market\n\n\n1/25/2024\n12 to 1.30 pm\nApps That Help You Manage Your Money\n\n\n2/8/2024\n12 to 1.30 pm\nMastering Gmail: Make It Work for You!\n\n\n2/22/2024\n12 to 1.30 pm\nExplore the Advanced Settings of Gmail\n\n\n3/7/2024\n12 to 1.30 pm\nLearn the Fundamentals of Google Calendar\n\n\n3/28/2024\n12 to 1.30 pm\nElevate Your Google Calendar Skills\n\n\n4/11/2024\n12 to 1.30 pm\nTips and Tricks for Password Management\n\n\n4/25/2024\n12 to 1.30 pm\nMusic Streaming: Discover Pandora\n\n\n5/9/2024\n12 to 1.30 pm\nIntroduction to Google Maps\n\n\n5/23/2024\n12 to 1.30 pm\nAdvanced Features of Google Maps\n\n\n6/13/2024\n12 to 1.30 pm\nAn Introduction to the Smartphone\n\n\n6/27/2024\n12 to 1.30 pm\nDiscover Android Accessibility Settings\n\n\n7/11/2024\n12 to 1.30 pm\nUnlocking Your iPhone’s Accessibility Features\n\n\n7/25/2024\n12 to 1.30 pm\nUnleashing the Power of Google Drive: A Dive into Its Dynamic Features\n\n\n8/8/2024\n12 to 1.30 pm\nGoogle Sheets 101: A Beginner’s Guide to Spreadsheets\n\n\n8/22/2024\n12 to 1.30 pm\nFacebook\n\n\n9/12/2024\n12 to 1.30 pm\nIdentifying Online Scams\n\n\n9/26/2024\n12 to 1.30 pm\nProtect Yourself from Artificial Intelligence (AI) Scams\n\n\n10/10/2024\n12 to 1.30 pm\nA Beginner’s Guide to Artificial Intelligence (AI)\n\n\n10/24/2024\n12 to 1.30 pm\nGetting Started with Google Photos\n\n\n11/7/2024\n12 to 1.30 pm\nIntroduction to Google Meet: Connect with Confidence\n\n\n11/21/2024\n12 to 1.30 pm\nSearch Engine Essentials: Navigating the Web with Confidence\n\n\n12/12/2024\n12 to 1.30 pm\nDigital Privacy Basics: Navigating the Web Securely
URL:https://tech4tomorrow.org/event/aarp-vt-tech-thursdays-2024-2/2024-12-12/1/
ATTACH;FMTTYPE=image/png:https://tech4tomorrow.org/wp-content/uploads/2024/08/aarpvt_t4tweb2024.png
END:VEVENT
BEGIN:VEVENT
DTSTART;TZID=UTC:20241212T120000
DTEND;TZID=UTC:20241212T133000
DTSTAMP:20260424T133927
CREATED:20241011T124819Z
LAST-MODIFIED:20250711T143018Z
UID:10000079-1734004800-1734010200@tech4tomorrow.org
SUMMARY:AARP VT Tech Thursdays 2024
DESCRIPTION:AARP VT and Technology for Tomorrow have come together to provide AARP digital classes focused on digital literacy and the interests of members of AARP! We provide this service on the second and fourth Thursdays of each month! If you are interested in signing up for these classes\, please visit AARP’s digital events page! \n\n\n\n\n\n\n\nDate\nTime\nTopic / Title\n\n\n1/11/2024\n12 to 1.30 pm\nBuilding Confidence in the Digital Job Market\n\n\n1/25/2024\n12 to 1.30 pm\nApps That Help You Manage Your Money\n\n\n2/8/2024\n12 to 1.30 pm\nMastering Gmail: Make It Work for You!\n\n\n2/22/2024\n12 to 1.30 pm\nExplore the Advanced Settings of Gmail\n\n\n3/7/2024\n12 to 1.30 pm\nLearn the Fundamentals of Google Calendar\n\n\n3/28/2024\n12 to 1.30 pm\nElevate Your Google Calendar Skills\n\n\n4/11/2024\n12 to 1.30 pm\nTips and Tricks for Password Management\n\n\n4/25/2024\n12 to 1.30 pm\nMusic Streaming: Discover Pandora\n\n\n5/9/2024\n12 to 1.30 pm\nIntroduction to Google Maps\n\n\n5/23/2024\n12 to 1.30 pm\nAdvanced Features of Google Maps\n\n\n6/13/2024\n12 to 1.30 pm\nAn Introduction to the Smartphone\n\n\n6/27/2024\n12 to 1.30 pm\nDiscover Android Accessibility Settings\n\n\n7/11/2024\n12 to 1.30 pm\nUnlocking Your iPhone’s Accessibility Features\n\n\n7/25/2024\n12 to 1.30 pm\nUnleashing the Power of Google Drive: A Dive into Its Dynamic Features\n\n\n8/8/2024\n12 to 1.30 pm\nGoogle Sheets 101: A Beginner’s Guide to Spreadsheets\n\n\n8/22/2024\n12 to 1.30 pm\nFacebook\n\n\n9/12/2024\n12 to 1.30 pm\nIdentifying Online Scams\n\n\n9/26/2024\n12 to 1.30 pm\nProtect Yourself from Artificial Intelligence (AI) Scams\n\n\n10/10/2024\n12 to 1.30 pm\nA Beginner’s Guide to Artificial Intelligence (AI)\n\n\n10/24/2024\n12 to 1.30 pm\nGetting Started with Google Photos\n\n\n11/7/2024\n12 to 1.30 pm\nIntroduction to Google Meet: Connect with Confidence\n\n\n11/21/2024\n12 to 1.30 pm\nSearch Engine Essentials: Navigating the Web with Confidence\n\n\n12/12/2024\n12 to 1.30 pm\nDigital Privacy Basics: Navigating the Web Securely
URL:https://tech4tomorrow.org/event/aarp-vt-tech-thursdays-2024-2/2024-12-12/2/
ATTACH;FMTTYPE=image/png:https://tech4tomorrow.org/wp-content/uploads/2024/08/aarpvt_t4tweb2024.png
END:VEVENT
BEGIN:VEVENT
DTSTART;TZID=UTC:20241218T100000
DTEND;TZID=UTC:20241218T113000
DTSTAMP:20260424T133927
CREATED:20241220T171124Z
LAST-MODIFIED:20250711T143102Z
UID:10000099-1734516000-1734521400@tech4tomorrow.org
SUMMARY:CVOEO - Champlain Valley Head Start 2024 Class Series
DESCRIPTION:Champlain Valley Head Start\, a program within the Champlain Valley Office of Economic Opportunity (CVOEO)\, have partnered with Technology for Tomorrow to deliver a 5-class series on digital literacy. In this series\, we will be discussing a variety of topics\, including: \n\n11/13 – Understanding Smartphones\n11/22 – Smartphone Camera Uses Beyond Photography\n12/04 – MyChart\n12/11 – Protecting Yourself from Scams\n12/18 – Google Translate\n\nWe’re excited to have the opportunity to partner with an organization that works so closely with our community!
URL:https://tech4tomorrow.org/event/cvoeo-champlain-valley-head-start-2024-class-series-3/
ATTACH;FMTTYPE=image/png:https://tech4tomorrow.org/wp-content/uploads/2024/06/cvoeo-1-e1725469056239.png
END:VEVENT
BEGIN:VEVENT
DTSTART;TZID=UTC:20241219T150000
DTEND;TZID=UTC:20241219T163000
DTSTAMP:20260424T133927
CREATED:20241011T131154Z
LAST-MODIFIED:20250711T143157Z
UID:10000093-1734620400-1734625800@tech4tomorrow.org
SUMMARY:Harbor Village & Senior Planet Fall 2024 Series
DESCRIPTION:Harbor Village\, T4T\, and SeniorPlanet have come together to provide SeniorPlanet-ready classes to the residents of HarborVillage! \nTopics Include: \n\n10/21: Streaming and Smart TVs\n11/4: Facebook\n11/18: Telemedicine\n12/9: Smartphones at a Glance\n12/16: Protecting Your Personal Information Online
URL:https://tech4tomorrow.org/event/harbor-village-senior-planet-fall-2024-series-2/2024-12-19/
END:VEVENT
BEGIN:VEVENT
DTSTART;TZID=UTC:20241231T133000
DTEND;TZID=UTC:20241231T150000
DTSTAMP:20260424T133927
CREATED:20241224T153726Z
LAST-MODIFIED:20250711T143308Z
UID:10000121-1735651800-1735657200@tech4tomorrow.org
SUMMARY:TechSpark Ignite - HireAbility Staff Training Winter '24
DESCRIPTION:These classes are being provided to staff and other individuals within HireAbility’s office. Classes are on: \n\n1/31/2025\n2/7/2025\n2/14/2025\n2/21/2025\n2/28/2025
URL:https://tech4tomorrow.org/event/techspark-ignite-hireability-staff-training-winter-24/
ATTACH;FMTTYPE=image/png:https://tech4tomorrow.org/wp-content/uploads/2024/08/webIcons_client.png
END:VEVENT
END:VCALENDAR